FILENAME: O4810840.NES.1116533.tif
QUADRANGLE_NAME: DODSON NE
QUADRANT: NE
WEST_LONGITUDE: -108 3 45.00000
EAST_LONGITUDE: -108 0 0.00000
NORTH_LATITUDE: 48 30 0.00000
SOUTH_LATITUDE: 48 26 15.00000
PRODUCTION_DATE: 2000 10 27
RASTER_ORDER: LEFT_RIGHT/TOP_BOTTOM
BAND_ORGANIZATION: SINGLE FILE
BAND_CONTENT: BLACK&WHITE
BAND_CONTENT: UNDEFINED
BAND_CONTENT: UNDEFINED
BITS_PER_PIXEL: 8
SAMPLES_AND_LINES: 5542 7730
HORIZONTAL_DATUM: NAD83
HORIZONTAL_COORDINATE_SYSTEM: UTM
COORDINATE_ZONE: 12
HORIZONTAL_UNITS: METERS
HORIZONTAL_RESOLUTION: 1.00000
SECONDARY_HORIZONTAL_DATUM: NAD27
XY_ORIGIN: 716635.00000 5376523.00000
SECONDARY_XY_ORIGIN: 716691.99300 5376306.22900
NATION: US
NATION: "SCIENCE
STATE: MT
NW_QUAD_CORNER_XY: 716987.05800 5376043.26100
NE_QUAD_CORNER_XY: 721603.29700 5376222.56300
SE_QUAD_CORNERY_XY: 721875.80600 5369276.52300
SW_QUAD_CORNER_XY: 717253.88200 5369097.17300
SECONDARY_NW_QUAD_XY: 716993.95800 5375824.42100
SECONDARY_NE_QUAD_XY: 721610.34400 5376003.72900
SECONDARY_SE_QUAD_XY: 721882.85300 5369057.69700
SECONDARY_SW_QUAD_XY: 717260.78200 5368878.34200
RMSE_XY: 0.80000
IMAGE_SOURCE: BLACK AND WHITE FILM
SOURCE_IMAGE_ID: NAPP 9142 133
SOURCE_IMAGE_DATE: 1996 08 24
SOURCE_DEM_DATE: 1963 00 00
AGENCY: WESTERN MAPPING CENTER (WMC)
PRODUCER: UNDEFINED
PRODUCTION_SYSTEM: GIS/MAGIC
COMPRESSION: UNDEFINED
STANDARD_VERSION: 1996 12
METADATA_DATE: 2000 11 14
DATA_FILE_SIZE: 42845202
BYTE_COUNT: 5542
