FILENAME: O4810838.NWS.1114599.tif
QUADRANGLE_NAME: DODSON DAM
QUADRANT: NW
WEST_LONGITUDE: -108 22 30.00000
EAST_LONGITUDE: -108 18 45.00000
NORTH_LATITUDE: 48 30 0.00000
SOUTH_LATITUDE: 48 26 15.00000
PRODUCTION_DATE: 2000 10 24
RASTER_ORDER: LEFT_RIGHT/TOP_BOTTOM
BAND_ORGANIZATION: SINGLE FILE
BAND_CONTENT: BLACK&WHITE
BAND_CONTENT: UNDEFINED
BAND_CONTENT: UNDEFINED
BITS_PER_PIXEL: 8
SAMPLES_AND_LINES: 5514 7711
HORIZONTAL_DATUM: NAD83
HORIZONTAL_COORDINATE_SYSTEM: UTM
COORDINATE_ZONE: 12
HORIZONTAL_UNITS: METERS
HORIZONTAL_RESOLUTION: 1.00000
SECONDARY_HORIZONTAL_DATUM: NAD27
XY_ORIGIN: 693553.00000 5375664.00000
SECONDARY_XY_ORIGIN: 693610.44100 5375447.09400
NATION: US
NATION: "SCIENCE
STATE: MT
NW_QUAD_CORNER_XY: 693905.40500 5375203.44500
NE_QUAD_CORNER_XY: 698521.79500 5375363.85000
SE_QUAD_CORNERY_XY: 698765.88100 5368417.58300
SW_QUAD_CORNER_XY: 694143.80800 5368257.13500
SECONDARY_NW_QUAD_XY: 693911.57100 5374984.57800
SECONDARY_NE_QUAD_XY: 698528.10700 5375144.98800
SECONDARY_SE_QUAD_XY: 698772.19300 5368198.72900
SECONDARY_SW_QUAD_XY: 694149.97400 5368038.27700
RMSE_XY: 0.90000
IMAGE_SOURCE: BLACK AND WHITE FILM
SOURCE_IMAGE_ID: NAPP 9143 240
SOURCE_IMAGE_DATE: 1996 08 24
SOURCE_DEM_DATE: 1964 00 00
AGENCY: WESTERN MAPPING CENTER (WMC)
PRODUCER: UNDEFINED
PRODUCTION_SYSTEM: GIS/MAGIC
COMPRESSION: UNDEFINED
STANDARD_VERSION: 1996 12
METADATA_DATE: 2000 11 14
DATA_FILE_SIZE: 42523968
BYTE_COUNT: 5514
