FILENAME: O4810837.NES.1114550.tif
QUADRANGLE_NAME: COBURG
QUADRANT: NE
WEST_LONGITUDE: -108 26 15.00000
EAST_LONGITUDE: -108 22 30.00000
NORTH_LATITUDE: 48 30 0.00000
SOUTH_LATITUDE: 48 26 15.00000
PRODUCTION_DATE: 2000 10 25
RASTER_ORDER: LEFT_RIGHT/TOP_BOTTOM
BAND_ORGANIZATION: SINGLE FILE
BAND_CONTENT: BLACK&WHITE
BAND_CONTENT: UNDEFINED
BAND_CONTENT: UNDEFINED
BITS_PER_PIXEL: 8
SAMPLES_AND_LINES: 5509 7708
HORIZONTAL_DATUM: NAD83
HORIZONTAL_COORDINATE_SYSTEM: UTM
COORDINATE_ZONE: 12
HORIZONTAL_UNITS: METERS
HORIZONTAL_RESOLUTION: 1.00000
SECONDARY_HORIZONTAL_DATUM: NAD27
XY_ORIGIN: 688936.00000 5375504.00000
SECONDARY_XY_ORIGIN: 688993.53300 5375287.07400
NATION: US
NATION: "SCIENCE
STATE: MT
NW_QUAD_CORNER_XY: 689288.98700 5375046.81800
NE_QUAD_CORNER_XY: 693905.40500 5375203.44500
SE_QUAD_CORNERY_XY: 694143.80800 5368257.13500
SW_QUAD_CORNER_XY: 689521.70800 5368100.46800
SECONDARY_NW_QUAD_XY: 689295.00600 5374827.94700
SECONDARY_NE_QUAD_XY: 693911.57100 5374984.57800
SECONDARY_SE_QUAD_XY: 694149.97400 5368038.27700
SECONDARY_SW_QUAD_XY: 689527.72700 5367881.60400
RMSE_XY: 0.60000
IMAGE_SOURCE: BLACK AND WHITE FILM
SOURCE_IMAGE_ID: NAPP 9144 049
SOURCE_IMAGE_DATE: 1996 08 25
SOURCE_DEM_DATE: 1963 00 00
AGENCY: WESTERN MAPPING CENTER (WMC)
PRODUCER: UNDEFINED
PRODUCTION_SYSTEM: GIS/MAGIC
COMPRESSION: UNDEFINED
STANDARD_VERSION: 1996 12
METADATA_DATE: 2000 11 14
DATA_FILE_SIZE: 42468881
BYTE_COUNT: 5509
