FILENAME: O4810837.NWS.1114551.tif
QUADRANGLE_NAME: COBURG
QUADRANT: NW
WEST_LONGITUDE: -108 30 0.00000
EAST_LONGITUDE: -108 26 15.00000
NORTH_LATITUDE: 48 30 0.00000
SOUTH_LATITUDE: 48 26 15.00000
PRODUCTION_DATE: 2000 10 25
RASTER_ORDER: LEFT_RIGHT/TOP_BOTTOM
BAND_ORGANIZATION: SINGLE FILE
BAND_CONTENT: BLACK&WHITE
BAND_CONTENT: UNDEFINED
BAND_CONTENT: UNDEFINED
BITS_PER_PIXEL: 8
SAMPLES_AND_LINES: 5504 7704
HORIZONTAL_DATUM: NAD83
HORIZONTAL_COORDINATE_SYSTEM: UTM
COORDINATE_ZONE: 12
HORIZONTAL_UNITS: METERS
HORIZONTAL_RESOLUTION: 1.00000
SECONDARY_HORIZONTAL_DATUM: NAD27
XY_ORIGIN: 684319.00000 5375347.00000
SECONDARY_XY_ORIGIN: 684376.62400 5375130.05500
NATION: US
NATION: "SCIENCE
STATE: MT
NW_QUAD_CORNER_XY: 684672.54200 5374893.97000
NE_QUAD_CORNER_XY: 689288.98700 5375046.81800
SE_QUAD_CORNERY_XY: 689521.70800 5368100.46800
SW_QUAD_CORNER_XY: 684899.58100 5367947.57900
SECONDARY_NW_QUAD_XY: 684678.41400 5374675.09400
SECONDARY_NE_QUAD_XY: 689295.00600 5374827.94700
SECONDARY_SE_QUAD_XY: 689527.72700 5367881.60400
SECONDARY_SW_QUAD_XY: 684905.45300 5367728.71100
RMSE_XY: 0.80000
IMAGE_SOURCE: BLACK AND WHITE FILM
SOURCE_IMAGE_ID: NAPP 9144 122
SOURCE_IMAGE_DATE: 1996 08 25
SOURCE_DEM_DATE: 1963 00 00
AGENCY: WESTERN MAPPING CENTER (WMC)
PRODUCER: UNDEFINED
PRODUCTION_SYSTEM: GIS/MAGIC
COMPRESSION: UNDEFINED
STANDARD_VERSION: 1996 12
METADATA_DATE: 2000 11 14
DATA_FILE_SIZE: 42408320
BYTE_COUNT: 5504
