FILENAME: O4810835.NWS.1112791.tif
QUADRANGLE_NAME: THREEMILE RESERVOIR
QUADRANT: NW
WEST_LONGITUDE: -108 45 0.00000
EAST_LONGITUDE: -108 41 15.00000
NORTH_LATITUDE: 48 30 0.00000
SOUTH_LATITUDE: 48 26 15.00000
PRODUCTION_DATE: 2000 10 26
RASTER_ORDER: LEFT_RIGHT/TOP_BOTTOM
BAND_ORGANIZATION: SINGLE FILE
BAND_CONTENT: BLACK&WHITE
BAND_CONTENT: UNDEFINED
BAND_CONTENT: UNDEFINED
BITS_PER_PIXEL: 8
SAMPLES_AND_LINES: 5483 7690
HORIZONTAL_DATUM: NAD83
HORIZONTAL_COORDINATE_SYSTEM: UTM
COORDINATE_ZONE: 12
HORIZONTAL_UNITS: METERS
HORIZONTAL_RESOLUTION: 1.00000
SECONDARY_HORIZONTAL_DATUM: NAD27
XY_ORIGIN: 665852.00000 5374759.00000
SECONDARY_XY_ORIGIN: 665909.88000 5374541.99200
NATION: US
NATION: "SCIENCE
STATE: MT
NW_QUAD_CORNER_XY: 666206.50200 5374320.35400
NE_QUAD_CORNER_XY: 670823.05000 5374458.09200
SE_QUAD_CORNERY_XY: 671033.04500 5367511.58600
SW_QUAD_CORNER_XY: 666410.81600 5367373.81200
SECONDARY_NW_QUAD_XY: 666211.78700 5374101.45900
SECONDARY_NE_QUAD_XY: 670828.48100 5374239.20200
SECONDARY_SE_QUAD_XY: 671038.47600 5367292.70400
SECONDARY_SW_QUAD_XY: 666416.10100 5367154.92500
RMSE_XY: 1.20000
IMAGE_SOURCE: BLACK AND WHITE FILM
SOURCE_IMAGE_ID: NAPP 9144 238
SOURCE_IMAGE_DATE: 1996 08 25
SOURCE_DEM_DATE: 1963 00 00
AGENCY: WESTERN MAPPING CENTER (WMC)
PRODUCER: UNDEFINED
PRODUCTION_SYSTEM: GIS/MAGIC
COMPRESSION: UNDEFINED
STANDARD_VERSION: 1996 12
METADATA_DATE: 2000 11 13
DATA_FILE_SIZE: 42169753
BYTE_COUNT: 5483
