FILENAME: O4810832.SWS.1116532.tif
QUADRANGLE_NAME: HUBERT HILL SE
QUADRANT: SW
WEST_LONGITUDE: -108 7 30.00000
EAST_LONGITUDE: -108 3 45.00000
NORTH_LATITUDE: 48 33 45.00000
SOUTH_LATITUDE: 48 30 0.00000
PRODUCTION_DATE: 2000 10 27
RASTER_ORDER: LEFT_RIGHT/TOP_BOTTOM
BAND_ORGANIZATION: SINGLE FILE
BAND_CONTENT: BLACK&WHITE
BAND_CONTENT: UNDEFINED
BAND_CONTENT: UNDEFINED
BITS_PER_PIXEL: 8
SAMPLES_AND_LINES: 5531 7727
HORIZONTAL_DATUM: NAD83
HORIZONTAL_COORDINATE_SYSTEM: UTM
COORDINATE_ZONE: 12
HORIZONTAL_UNITS: METERS
HORIZONTAL_RESOLUTION: 1.00000
SECONDARY_HORIZONTAL_DATUM: NAD27
XY_ORIGIN: 711758.00000 5383290.00000
SECONDARY_XY_ORIGIN: 711814.92300 5383073.01300
NATION: US
NATION: "SCIENCE
STATE: MT
NW_QUAD_CORNER_XY: 712109.39500 5382813.92900
NE_QUAD_CORNER_XY: 716719.97500 5382989.40400
SE_QUAD_CORNERY_XY: 716987.05800 5376043.26100
SW_QUAD_CORNER_XY: 712370.78800 5375867.73800
SECONDARY_NW_QUAD_XY: 712116.14900 5382595.07600
SECONDARY_NE_QUAD_XY: 716726.87500 5382770.55600
SECONDARY_SE_QUAD_XY: 716993.95800 5375824.42100
SECONDARY_SW_QUAD_XY: 712377.54100 5375648.89300
RMSE_XY: 1.00000
IMAGE_SOURCE: BLACK AND WHITE FILM
SOURCE_IMAGE_ID: NAPP 9142 168
SOURCE_IMAGE_DATE: 1996 08 24
SOURCE_DEM_DATE: 1975 00 00
AGENCY: WESTERN MAPPING CENTER (WMC)
PRODUCER: UNDEFINED
PRODUCTION_SYSTEM: GIS/MAGIC
COMPRESSION: UNDEFINED
STANDARD_VERSION: 1996 12
METADATA_DATE: 2000 11 14
DATA_FILE_SIZE: 42743568
BYTE_COUNT: 5531
