FILENAME: O4810828.NES.1114522.tif
QUADRANGLE_NAME: WAYNE CREEK SE
QUADRANT: NE
WEST_LONGITUDE: -108 33 45.00000
EAST_LONGITUDE: -108 30 0.00000
NORTH_LATITUDE: 48 37 30.00000
SOUTH_LATITUDE: 48 33 45.00000
PRODUCTION_DATE: 2000 10 25
RASTER_ORDER: LEFT_RIGHT/TOP_BOTTOM
BAND_ORGANIZATION: SINGLE FILE
BAND_CONTENT: BLACK&WHITE
BAND_CONTENT: UNDEFINED
BAND_CONTENT: UNDEFINED
BITS_PER_PIXEL: 8
SAMPLES_AND_LINES: 5487 7700
HORIZONTAL_DATUM: NAD83
HORIZONTAL_COORDINATE_SYSTEM: UTM
COORDINATE_ZONE: 12
HORIZONTAL_UNITS: METERS
HORIZONTAL_RESOLUTION: 1.00000
SECONDARY_HORIZONTAL_DATUM: NAD27
XY_ORIGIN: 679260.00000 5389087.00000
SECONDARY_XY_ORIGIN: 679317.42400 5388869.74900
NATION: US
NATION: "SCIENCE
STATE: MT
NW_QUAD_CORNER_XY: 679612.71000 5388637.94700
NE_QUAD_CORNER_XY: 684217.80200 5388786.93700
SE_QUAD_CORNERY_XY: 684445.28200 5381840.42300
SW_QUAD_CORNER_XY: 679834.49800 5381691.39300
SECONDARY_NW_QUAD_XY: 679618.43500 5388419.05200
SECONDARY_NE_QUAD_XY: 684223.67400 5388568.04600
SECONDARY_SE_QUAD_XY: 684451.15500 5381621.53900
SECONDARY_SW_QUAD_XY: 679840.22300 5381472.50400
RMSE_XY: 0.90000
IMAGE_SOURCE: BLACK AND WHITE FILM
SOURCE_IMAGE_ID: NAPP 9138 121
SOURCE_IMAGE_DATE: 1996 08 23
SOURCE_DEM_DATE: 1963 00 00
AGENCY: WESTERN MAPPING CENTER (WMC)
PRODUCER: UNDEFINED
PRODUCTION_SYSTEM: GIS/MAGIC
COMPRESSION: UNDEFINED
STANDARD_VERSION: 1996 12
METADATA_DATE: 2000 11 14
DATA_FILE_SIZE: 42255387
BYTE_COUNT: 5487
