FILENAME: O4810828.NWS.1114523.tif
QUADRANGLE_NAME: WAYNE CREEK SE
QUADRANT: NW
WEST_LONGITUDE: -108 37 30.00000
EAST_LONGITUDE: -108 33 45.00000
NORTH_LATITUDE: 48 37 30.00000
SOUTH_LATITUDE: 48 33 45.00000
PRODUCTION_DATE: 2000 10 25
RASTER_ORDER: LEFT_RIGHT/TOP_BOTTOM
BAND_ORGANIZATION: SINGLE FILE
BAND_CONTENT: BLACK&WHITE
BAND_CONTENT: UNDEFINED
BAND_CONTENT: UNDEFINED
BITS_PER_PIXEL: 8
SAMPLES_AND_LINES: 5482 7696
HORIZONTAL_DATUM: NAD83
HORIZONTAL_COORDINATE_SYSTEM: UTM
COORDINATE_ZONE: 12
HORIZONTAL_UNITS: METERS
HORIZONTAL_RESOLUTION: 1.00000
SECONDARY_HORIZONTAL_DATUM: NAD27
XY_ORIGIN: 674654.00000 5388938.00000
SECONDARY_XY_ORIGIN: 674711.49700 5388720.73300
NATION: US
NATION: "SCIENCE
STATE: MT
NW_QUAD_CORNER_XY: 675007.59100 5388492.73300
NE_QUAD_CORNER_XY: 679612.71000 5388637.94700
SE_QUAD_CORNERY_XY: 679834.49800 5381691.39300
SW_QUAD_CORNER_XY: 675223.68700 5381546.13900
SECONDARY_NW_QUAD_XY: 675013.17000 5388273.83300
SECONDARY_NE_QUAD_XY: 679618.43500 5388419.05200
SECONDARY_SE_QUAD_XY: 679840.22300 5381472.50400
SECONDARY_SW_QUAD_XY: 675229.26600 5381327.24600
RMSE_XY: 0.90000
IMAGE_SOURCE: BLACK AND WHITE FILM
SOURCE_IMAGE_ID: NAPP 9138 150
SOURCE_IMAGE_DATE: 1996 08 23
SOURCE_DEM_DATE: 1963 00 00
AGENCY: WESTERN MAPPING CENTER (WMC)
PRODUCER: UNDEFINED
PRODUCTION_SYSTEM: GIS/MAGIC
COMPRESSION: UNDEFINED
STANDARD_VERSION: 1996 12
METADATA_DATE: 2000 11 14
DATA_FILE_SIZE: 42194954
BYTE_COUNT: 5482
