FILENAME: O4810828.SES.1114524.tif
QUADRANGLE_NAME: WAYNE CREEK SE
QUADRANT: SE
WEST_LONGITUDE: -108 33 45.00000
EAST_LONGITUDE: -108 30 0.00000
NORTH_LATITUDE: 48 33 45.00000
SOUTH_LATITUDE: 48 30 0.00000
PRODUCTION_DATE: 2000 10 25
RASTER_ORDER: LEFT_RIGHT/TOP_BOTTOM
BAND_ORGANIZATION: SINGLE FILE
BAND_CONTENT: BLACK&WHITE
BAND_CONTENT: UNDEFINED
BAND_CONTENT: UNDEFINED
BITS_PER_PIXEL: 8
SAMPLES_AND_LINES: 5493 7701
HORIZONTAL_DATUM: NAD83
HORIZONTAL_COORDINATE_SYSTEM: UTM
COORDINATE_ZONE: 12
HORIZONTAL_UNITS: METERS
HORIZONTAL_RESOLUTION: 1.00000
SECONDARY_HORIZONTAL_DATUM: NAD27
XY_ORIGIN: 679481.00000 5382141.00000
SECONDARY_XY_ORIGIN: 679538.55300 5381923.89100
NATION: US
NATION: "SCIENCE
STATE: MT
NW_QUAD_CORNER_XY: 679834.49800 5381691.39300
NE_QUAD_CORNER_XY: 684445.28200 5381840.42300
SE_QUAD_CORNERY_XY: 684672.54200 5374893.97000
SW_QUAD_CORNER_XY: 680056.07100 5374744.90000
SECONDARY_NW_QUAD_XY: 679840.22300 5381472.50400
SECONDARY_NE_QUAD_XY: 684451.15500 5381621.53900
SECONDARY_SE_QUAD_XY: 684678.41400 5374675.09400
SECONDARY_SW_QUAD_XY: 680061.79600 5374526.01900
RMSE_XY: 0.90000
IMAGE_SOURCE: BLACK AND WHITE FILM
SOURCE_IMAGE_ID: NAPP 9138 119
SOURCE_IMAGE_DATE: 1996 08 23
SOURCE_DEM_DATE: 1963 00 00
AGENCY: WESTERN MAPPING CENTER (WMC)
PRODUCER: UNDEFINED
PRODUCTION_SYSTEM: GIS/MAGIC
COMPRESSION: UNDEFINED
STANDARD_VERSION: 1996 12
METADATA_DATE: 2000 11 14
DATA_FILE_SIZE: 42307086
BYTE_COUNT: 5493
