FILENAME: O4810826.SES.1112768.tif
QUADRANGLE_NAME: HARLEM
QUADRANT: SE
WEST_LONGITUDE: -108 48 45.00000
EAST_LONGITUDE: -108 45 0.00000
NORTH_LATITUDE: 48 33 45.00000
SOUTH_LATITUDE: 48 30 0.00000
PRODUCTION_DATE: 2000 10 26
RASTER_ORDER: LEFT_RIGHT/TOP_BOTTOM
BAND_ORGANIZATION: SINGLE FILE
BAND_CONTENT: BLACK&WHITE
BAND_CONTENT: UNDEFINED
BAND_CONTENT: UNDEFINED
BITS_PER_PIXEL: 8
SAMPLES_AND_LINES: 5471 7685
HORIZONTAL_DATUM: NAD83
HORIZONTAL_COORDINATE_SYSTEM: UTM
COORDINATE_ZONE: 12
HORIZONTAL_UNITS: METERS
HORIZONTAL_RESOLUTION: 1.00000
SECONDARY_HORIZONTAL_DATUM: NAD27
XY_ORIGIN: 661037.00000 5381567.00000
SECONDARY_XY_ORIGIN: 661094.77300 5381349.78700
NATION: US
NATION: "SCIENCE
STATE: MT
NW_QUAD_CORNER_XY: 661391.10200 5381133.03500
NE_QUAD_CORNER_XY: 666001.98800 5381266.96100
SE_QUAD_CORNERY_XY: 666206.50200 5374320.35400
SW_QUAD_CORNER_XY: 661589.93000 5374186.39300
SECONDARY_NW_QUAD_XY: 661396.24000 5380914.12900
SECONDARY_NE_QUAD_XY: 666007.27300 5381048.05800
SECONDARY_SE_QUAD_XY: 666211.78700 5374101.45900
SECONDARY_SW_QUAD_XY: 661595.06800 5373967.49400
RMSE_XY: 1.10000
IMAGE_SOURCE: BLACK AND WHITE FILM
SOURCE_IMAGE_ID: NAPP 9157 127
SOURCE_IMAGE_DATE: 1997 09 05
SOURCE_DEM_DATE: 1963 00 00
AGENCY: WESTERN MAPPING CENTER (WMC)
PRODUCER: UNDEFINED
PRODUCTION_SYSTEM: GIS/MAGIC
COMPRESSION: UNDEFINED
STANDARD_VERSION: 1996 12
METADATA_DATE: 2000 11 13
DATA_FILE_SIZE: 42050106
BYTE_COUNT: 5471
