FILENAME: O4810824.SWS.1116552.tif
QUADRANGLE_NAME: HUBERT HILL
QUADRANT: SW
WEST_LONGITUDE: -108 7 30.00000
EAST_LONGITUDE: -108 3 45.00000
NORTH_LATITUDE: 48 41 15.00000
SOUTH_LATITUDE: 48 37 30.00000
PRODUCTION_DATE: 2000 10 27
RASTER_ORDER: LEFT_RIGHT/TOP_BOTTOM
BAND_ORGANIZATION: SINGLE FILE
BAND_CONTENT: BLACK&WHITE
BAND_CONTENT: UNDEFINED
BAND_CONTENT: UNDEFINED
BITS_PER_PIXEL: 8
SAMPLES_AND_LINES: 5520 7726
HORIZONTAL_DATUM: NAD83
HORIZONTAL_COORDINATE_SYSTEM: UTM
COORDINATE_ZONE: 12
HORIZONTAL_UNITS: METERS
HORIZONTAL_RESOLUTION: 1.00000
SECONDARY_HORIZONTAL_DATUM: NAD27
XY_ORIGIN: 711234.00000 5397182.00000
SECONDARY_XY_ORIGIN: 711290.61200 5396964.67000
NATION: US
NATION: "SCIENCE
STATE: MT
NW_QUAD_CORNER_XY: 711585.84800 5396706.48000
NE_QUAD_CORNER_XY: 716185.03000 5396881.85800
SE_QUAD_CORNERY_XY: 716452.63200 5389935.60300
SW_QUAD_CORNER_XY: 711847.74800 5389760.17600
SECONDARY_NW_QUAD_XY: 711592.60200 5396487.61500
SECONDARY_NE_QUAD_XY: 716191.93100 5396662.99800
SECONDARY_SE_QUAD_XY: 716459.53300 5389716.74900
SECONDARY_SW_QUAD_XY: 711854.50200 5389541.31700
RMSE_XY: 0.90000
IMAGE_SOURCE: BLACK AND WHITE FILM
SOURCE_IMAGE_ID: NAPP 9142 164
SOURCE_IMAGE_DATE: 1996 08 24
SOURCE_IMAGE_ID: NAPP 9142 165
SOURCE_IMAGE_DATE: 1996 08 24
SOURCE_DEM_DATE: 1993 00 00
AGENCY: WESTERN MAPPING CENTER (WMC)
PRODUCER: UNDEFINED
PRODUCTION_SYSTEM: GIS/MAGIC
COMPRESSION: UNDEFINED
STANDARD_VERSION: 1996 12
METADATA_DATE: 2000 11 30
DATA_FILE_SIZE: 42653040
BYTE_COUNT: 5520
