FILENAME: O4810823.NES.1116501.tif
QUADRANGLE_NAME: EMERICK BENCH
QUADRANT: NE
WEST_LONGITUDE: -108 11 15.00000
EAST_LONGITUDE: -108 7 30.00000
NORTH_LATITUDE: 48 45 0.00000
SOUTH_LATITUDE: 48 41 15.00000
PRODUCTION_DATE: 2000 10 26
RASTER_ORDER: LEFT_RIGHT/TOP_BOTTOM
BAND_ORGANIZATION: SINGLE FILE
BAND_CONTENT: BLACK&WHITE
BAND_CONTENT: UNDEFINED
BAND_CONTENT: UNDEFINED
BITS_PER_PIXEL: 8
SAMPLES_AND_LINES: 5508 7722
HORIZONTAL_DATUM: NAD83
HORIZONTAL_COORDINATE_SYSTEM: UTM
COORDINATE_ZONE: 12
HORIZONTAL_UNITS: METERS
HORIZONTAL_RESOLUTION: 1.00000
SECONDARY_HORIZONTAL_DATUM: NAD27
XY_ORIGIN: 706379.00000 5403953.00000
SECONDARY_XY_ORIGIN: 706435.56300 5403735.50500
NATION: US
NATION: "SCIENCE
STATE: MT
NW_QUAD_CORNER_XY: 706730.18600 5403481.28900
NE_QUAD_CORNER_XY: 711323.69400 5403652.84100
SE_QUAD_CORNERY_XY: 711585.84800 5396706.48000
SW_QUAD_CORNER_XY: 706986.63300 5396534.87900
SECONDARY_NW_QUAD_XY: 706736.79300 5403262.41300
SECONDARY_NE_QUAD_XY: 711330.44800 5403433.97100
SECONDARY_SE_QUAD_XY: 711592.60200 5396487.61500
SECONDARY_SW_QUAD_XY: 706993.24000 5396316.00800
RMSE_XY: 1.10000
IMAGE_SOURCE: BLACK AND WHITE FILM
SOURCE_IMAGE_ID: NAPP 9143 125
SOURCE_IMAGE_DATE: 1996 08 24
SOURCE_DEM_DATE: 1975 00 00
AGENCY: WESTERN MAPPING CENTER (WMC)
PRODUCER: UNDEFINED
PRODUCTION_SYSTEM: GIS/MAGIC
COMPRESSION: UNDEFINED
STANDARD_VERSION: 1996 12
METADATA_DATE: 2000 11 30
DATA_FILE_SIZE: 42538284
BYTE_COUNT: 5508
