FILENAME: O4810822.SWS.1116392.tif
QUADRANGLE_NAME: DOWN RESERVOIR NE
QUADRANT: SW
WEST_LONGITUDE: -108 22 30.00000
EAST_LONGITUDE: -108 18 45.00000
NORTH_LATITUDE: 48 41 15.00000
SOUTH_LATITUDE: 48 37 30.00000
PRODUCTION_DATE: 2000 10 24
RASTER_ORDER: LEFT_RIGHT/TOP_BOTTOM
BAND_ORGANIZATION: SINGLE FILE
BAND_CONTENT: BLACK&WHITE
BAND_CONTENT: UNDEFINED
BAND_CONTENT: UNDEFINED
BITS_PER_PIXEL: 8
SAMPLES_AND_LINES: 5498 7712
HORIZONTAL_DATUM: NAD83
HORIZONTAL_COORDINATE_SYSTEM: UTM
COORDINATE_ZONE: 12
HORIZONTAL_UNITS: METERS
HORIZONTAL_RESOLUTION: 1.00000
SECONDARY_HORIZONTAL_DATUM: NAD27
XY_ORIGIN: 692836.00000 5396504.00000
SECONDARY_XY_ORIGIN: 692893.01700 5396286.64400
NATION: US
NATION: "SCIENCE
STATE: MT
NW_QUAD_CORNER_XY: 693188.80200 5396042.73200
NE_QUAD_CORNER_XY: 697788.11000 5396203.00600
SE_QUAD_CORNERY_XY: 698032.90900 5389256.56100
SW_QUAD_CORNER_XY: 693427.90200 5389096.24300
SECONDARY_NW_QUAD_XY: 693194.96900 5395823.84600
SECONDARY_NE_QUAD_XY: 697794.42300 5395984.12400
SECONDARY_SE_QUAD_XY: 698039.22200 5389037.68500
SECONDARY_SW_QUAD_XY: 693434.06800 5388877.36200
RMSE_XY: 0.80000
IMAGE_SOURCE: BLACK AND WHITE FILM
SOURCE_IMAGE_ID: NAPP 9144 080
SOURCE_IMAGE_DATE: 1996 08 25
SOURCE_DEM_DATE: 1975 00 00
AGENCY: WESTERN MAPPING CENTER (WMC)
PRODUCER: UNDEFINED
PRODUCTION_SYSTEM: GIS/MAGIC
COMPRESSION: UNDEFINED
STANDARD_VERSION: 1996 12
METADATA_DATE: 2000 11 30
DATA_FILE_SIZE: 42406074
BYTE_COUNT: 5498
