FILENAME: O4810821.SES.1114568.tif
QUADRANGLE_NAME: DOWN RESERVOIR NW
QUADRANT: SE
WEST_LONGITUDE: -108 26 15.00000
EAST_LONGITUDE: -108 22 30.00000
NORTH_LATITUDE: 48 41 15.00000
SOUTH_LATITUDE: 48 37 30.00000
PRODUCTION_DATE: 2000 10 24
RASTER_ORDER: LEFT_RIGHT/TOP_BOTTOM
BAND_ORGANIZATION: SINGLE FILE
BAND_CONTENT: BLACK&WHITE
BAND_CONTENT: UNDEFINED
BAND_CONTENT: UNDEFINED
BITS_PER_PIXEL: 8
SAMPLES_AND_LINES: 5492 7707
HORIZONTAL_DATUM: NAD83
HORIZONTAL_COORDINATE_SYSTEM: UTM
COORDINATE_ZONE: 12
HORIZONTAL_UNITS: METERS
HORIZONTAL_RESOLUTION: 1.00000
SECONDARY_HORIZONTAL_DATUM: NAD27
XY_ORIGIN: 688237.00000 5396343.00000
SECONDARY_XY_ORIGIN: 688294.11700 5396125.63300
NATION: US
NATION: "SCIENCE
STATE: MT
NW_QUAD_CORNER_XY: 688589.46600 5395886.23500
NE_QUAD_CORNER_XY: 693188.80200 5396042.73200
SE_QUAD_CORNERY_XY: 693427.90200 5389096.24300
SW_QUAD_CORNER_XY: 688822.86600 5388939.70200
SECONDARY_NW_QUAD_XY: 688595.48500 5395667.34300
SECONDARY_NE_QUAD_XY: 693194.96900 5395823.84600
SECONDARY_SE_QUAD_XY: 693434.06800 5388877.36200
SECONDARY_SW_QUAD_XY: 688828.88500 5388720.81600
RMSE_XY: 0.80000
IMAGE_SOURCE: BLACK AND WHITE FILM
SOURCE_IMAGE_ID: NAPP 9144 055
SOURCE_IMAGE_DATE: 1996 08 25
SOURCE_DEM_DATE: 1975 00 00
AGENCY: WESTERN MAPPING CENTER (WMC)
PRODUCER: UNDEFINED
PRODUCTION_SYSTEM: GIS/MAGIC
COMPRESSION: UNDEFINED
STANDARD_VERSION: 1996 12
METADATA_DATE: 2000 11 14
DATA_FILE_SIZE: 42332336
BYTE_COUNT: 5492
