FILENAME: O4810821.SWS.1114569.tif
QUADRANGLE_NAME: DOWN RESERVOIR NW
QUADRANT: SW
WEST_LONGITUDE: -108 30 0.00000
EAST_LONGITUDE: -108 26 15.00000
NORTH_LATITUDE: 48 41 15.00000
SOUTH_LATITUDE: 48 37 30.00000
PRODUCTION_DATE: 2000 10 24
RASTER_ORDER: LEFT_RIGHT/TOP_BOTTOM
BAND_ORGANIZATION: SINGLE FILE
BAND_CONTENT: BLACK&WHITE
BAND_CONTENT: UNDEFINED
BAND_CONTENT: UNDEFINED
BITS_PER_PIXEL: 8
SAMPLES_AND_LINES: 5487 7704
HORIZONTAL_DATUM: NAD83
HORIZONTAL_COORDINATE_SYSTEM: UTM
COORDINATE_ZONE: 12
HORIZONTAL_UNITS: METERS
HORIZONTAL_RESOLUTION: 1.00000
SECONDARY_HORIZONTAL_DATUM: NAD27
XY_ORIGIN: 683637.00000 5396187.00000
SECONDARY_XY_ORIGIN: 683694.21800 5395969.62300
NATION: US
NATION: "SCIENCE
STATE: MT
NW_QUAD_CORNER_XY: 683990.10000 5395733.51200
NE_QUAD_CORNER_XY: 688589.46600 5395886.23500
SE_QUAD_CORNERY_XY: 688822.86600 5388939.70200
SW_QUAD_CORNER_XY: 684217.80200 5388786.93700
SECONDARY_NW_QUAD_XY: 683995.97300 5395514.61500
SECONDARY_NE_QUAD_XY: 688595.48500 5395667.34300
SECONDARY_SE_QUAD_XY: 688828.88500 5388720.81600
SECONDARY_SW_QUAD_XY: 684223.67400 5388568.04600
RMSE_XY: 1.10000
IMAGE_SOURCE: BLACK AND WHITE FILM
SOURCE_IMAGE_ID: NAPP 9144 116
SOURCE_IMAGE_DATE: 1996 08 25
SOURCE_IMAGE_ID: NAPP 9144 114
SOURCE_IMAGE_DATE: 1996 08 25
SOURCE_DEM_DATE: 1975 00 00
AGENCY: WESTERN MAPPING CENTER (WMC)
PRODUCER: UNDEFINED
PRODUCTION_SYSTEM: GIS/MAGIC
COMPRESSION: UNDEFINED
STANDARD_VERSION: 1996 12
METADATA_DATE: 2000 11 14
DATA_FILE_SIZE: 42277335
BYTE_COUNT: 5487
