FILENAME: O4810819.NWS.1112783.tif
QUADRANGLE_NAME: WAYNE CREEK NW
QUADRANT: NW
WEST_LONGITUDE: -108 45 0.00000
EAST_LONGITUDE: -108 41 15.00000
NORTH_LATITUDE: 48 45 0.00000
SOUTH_LATITUDE: 48 41 15.00000
PRODUCTION_DATE: 2000 10 26
RASTER_ORDER: LEFT_RIGHT/TOP_BOTTOM
BAND_ORGANIZATION: SINGLE FILE
BAND_CONTENT: BLACK&WHITE
BAND_CONTENT: UNDEFINED
BAND_CONTENT: UNDEFINED
BITS_PER_PIXEL: 8
SAMPLES_AND_LINES: 5459 7689
HORIZONTAL_DATUM: NAD83
HORIZONTAL_COORDINATE_SYSTEM: UTM
COORDINATE_ZONE: 12
HORIZONTAL_UNITS: METERS
HORIZONTAL_RESOLUTION: 1.00000
SECONDARY_HORIZONTAL_DATUM: NAD27
XY_ORIGIN: 665034.00000 5402545.00000
SECONDARY_XY_ORIGIN: 665091.41100 5402327.42000
NATION: US
NATION: "SCIENCE
STATE: MT
NW_QUAD_CORNER_XY: 665387.25500 5402107.16500
NE_QUAD_CORNER_XY: 669981.02600 5402244.75100
SE_QUAD_CORNERY_XY: 670191.83800 5395297.99100
SW_QUAD_CORNER_XY: 665592.36400 5395160.36600
SECONDARY_NW_QUAD_XY: 665392.54000 5401888.24500
SECONDARY_NE_QUAD_XY: 669986.45800 5402025.83600
SECONDARY_SE_QUAD_XY: 670197.27000 5395079.08100
SECONDARY_SW_QUAD_XY: 665597.65000 5394941.45100
RMSE_XY: 1.20000
IMAGE_SOURCE: BLACK AND WHITE FILM
SOURCE_IMAGE_ID: NAPP 9144 230
SOURCE_IMAGE_DATE: 1996 08 25
SOURCE_DEM_DATE: 1975 00 00
AGENCY: WESTERN MAPPING CENTER (WMC)
PRODUCER: UNDEFINED
PRODUCTION_SYSTEM: GIS/MAGIC
COMPRESSION: UNDEFINED
STANDARD_VERSION: 1996 12
METADATA_DATE: 2000 11 13
DATA_FILE_SIZE: 41979710
BYTE_COUNT: 5459
