FILENAME: O4810819.SES.1112784.tif
QUADRANGLE_NAME: WAYNE CREEK NW
QUADRANT: SE
WEST_LONGITUDE: -108 41 15.00000
EAST_LONGITUDE: -108 37 30.00000
NORTH_LATITUDE: 48 41 15.00000
SOUTH_LATITUDE: 48 37 30.00000
PRODUCTION_DATE: 2000 10 26
RASTER_ORDER: LEFT_RIGHT/TOP_BOTTOM
BAND_ORGANIZATION: SINGLE FILE
BAND_CONTENT: BLACK&WHITE
BAND_CONTENT: UNDEFINED
BAND_CONTENT: UNDEFINED
BITS_PER_PIXEL: 8
SAMPLES_AND_LINES: 5471 7693
HORIZONTAL_DATUM: NAD83
HORIZONTAL_COORDINATE_SYSTEM: UTM
COORDINATE_ZONE: 12
HORIZONTAL_UNITS: METERS
HORIZONTAL_RESOLUTION: 1.00000
SECONDARY_HORIZONTAL_DATUM: NAD27
XY_ORIGIN: 669838.00000 5395740.00000
SECONDARY_XY_ORIGIN: 669895.45000 5395522.57600
NATION: US
NATION: "SCIENCE
STATE: MT
NW_QUAD_CORNER_XY: 670191.83800 5395297.99100
NE_QUAD_CORNER_XY: 674791.28500 5395439.39100
SE_QUAD_CORNERY_XY: 675007.59100 5388492.73300
SW_QUAD_CORNER_XY: 670402.44600 5388351.29500
SECONDARY_NW_QUAD_XY: 670197.27000 5395079.08100
SECONDARY_NE_QUAD_XY: 674796.86400 5395220.48500
SECONDARY_SE_QUAD_XY: 675013.17000 5388273.83300
SECONDARY_SW_QUAD_XY: 670407.87800 5388132.39000
RMSE_XY: 0.80000
IMAGE_SOURCE: BLACK AND WHITE FILM
SOURCE_IMAGE_ID: NAPP 9144 207
SOURCE_IMAGE_DATE: 1996 08 25
SOURCE_DEM_DATE: 1975 00 00
AGENCY: WESTERN MAPPING CENTER (WMC)
PRODUCER: UNDEFINED
PRODUCTION_SYSTEM: GIS/MAGIC
COMPRESSION: UNDEFINED
STANDARD_VERSION: 1996 12
METADATA_DATE: 2000 11 13
DATA_FILE_SIZE: 42093874
BYTE_COUNT: 5471
