FILENAME: O4810819.SWS.1112785.tif
QUADRANGLE_NAME: WAYNE CREEK NW
QUADRANT: SW
WEST_LONGITUDE: -108 45 0.00000
EAST_LONGITUDE: -108 41 15.00000
NORTH_LATITUDE: 48 41 15.00000
SOUTH_LATITUDE: 48 37 30.00000
PRODUCTION_DATE: 2000 10 26
RASTER_ORDER: LEFT_RIGHT/TOP_BOTTOM
BAND_ORGANIZATION: SINGLE FILE
BAND_CONTENT: BLACK&WHITE
BAND_CONTENT: UNDEFINED
BAND_CONTENT: UNDEFINED
BITS_PER_PIXEL: 8
SAMPLES_AND_LINES: 5465 7688
HORIZONTAL_DATUM: NAD83
HORIZONTAL_COORDINATE_SYSTEM: UTM
COORDINATE_ZONE: 12
HORIZONTAL_UNITS: METERS
HORIZONTAL_RESOLUTION: 1.00000
SECONDARY_HORIZONTAL_DATUM: NAD27
XY_ORIGIN: 665239.00000 5395598.00000
SECONDARY_XY_ORIGIN: 665296.52800 5395380.56000
NATION: US
NATION: "SCIENCE
STATE: MT
NW_QUAD_CORNER_XY: 665592.36400 5395160.36600
NE_QUAD_CORNER_XY: 670191.83800 5395297.99100
SE_QUAD_CORNERY_XY: 670402.44600 5388351.29500
SW_QUAD_CORNER_XY: 665797.27600 5388213.63100
SECONDARY_NW_QUAD_XY: 665597.65000 5394941.45100
SECONDARY_NE_QUAD_XY: 670197.27000 5395079.08100
SECONDARY_SE_QUAD_XY: 670407.87800 5388132.39000
SECONDARY_SW_QUAD_XY: 665802.56100 5387994.72200
RMSE_XY: 1.30000
IMAGE_SOURCE: BLACK AND WHITE FILM
SOURCE_IMAGE_ID: NAPP 9144 232
SOURCE_IMAGE_DATE: 1996 08 25
SOURCE_DEM_DATE: 1975 00 00
AGENCY: WESTERN MAPPING CENTER (WMC)
PRODUCER: UNDEFINED
PRODUCTION_SYSTEM: GIS/MAGIC
COMPRESSION: UNDEFINED
STANDARD_VERSION: 1996 12
METADATA_DATE: 2000 11 13
DATA_FILE_SIZE: 42020385
BYTE_COUNT: 5465
