FILENAME: O4810818.SWS.1112765.tif
QUADRANGLE_NAME: EAST BUTTE
QUADRANT: SW
WEST_LONGITUDE: -108 52 30.00000
EAST_LONGITUDE: -108 48 45.00000
NORTH_LATITUDE: 48 41 15.00000
SOUTH_LATITUDE: 48 37 30.00000
PRODUCTION_DATE: 2000 10 26
RASTER_ORDER: LEFT_RIGHT/TOP_BOTTOM
BAND_ORGANIZATION: SINGLE FILE
BAND_CONTENT: BLACK&WHITE
BAND_CONTENT: UNDEFINED
BAND_CONTENT: UNDEFINED
BITS_PER_PIXEL: 8
SAMPLES_AND_LINES: 5455 7681
HORIZONTAL_DATUM: NAD83
HORIZONTAL_COORDINATE_SYSTEM: UTM
COORDINATE_ZONE: 12
HORIZONTAL_UNITS: METERS
HORIZONTAL_RESOLUTION: 1.00000
SECONDARY_HORIZONTAL_DATUM: NAD27
XY_ORIGIN: 656039.00000 5395327.00000
SECONDARY_XY_ORIGIN: 656096.53400 5395109.40400
NATION: US
NATION: "SCIENCE
STATE: MT
NW_QUAD_CORNER_XY: 656393.34200 5394896.43600
NE_QUAD_CORNER_XY: 660992.86600 5395026.51400
SE_QUAD_CORNERY_XY: 661192.08000 5388079.74200
SW_QUAD_CORNER_XY: 656586.86100 5387949.62800
SECONDARY_NW_QUAD_XY: 656398.33400 5394677.51300
SECONDARY_NE_QUAD_XY: 660998.00400 5394807.59500
SECONDARY_SE_QUAD_XY: 661197.21900 5387860.82900
SECONDARY_SW_QUAD_XY: 656591.85200 5387730.71100
RMSE_XY: 1.10000
IMAGE_SOURCE: BLACK AND WHITE FILM
SOURCE_IMAGE_ID: NAPP 9157 098
SOURCE_IMAGE_DATE: 1997 09 05
SOURCE_DEM_DATE: 1975 00 00
AGENCY: WESTERN MAPPING CENTER (WMC)
PRODUCER: UNDEFINED
PRODUCTION_SYSTEM: GIS/MAGIC
COMPRESSION: UNDEFINED
STANDARD_VERSION: 1996 12
METADATA_DATE: 2000 11 13
DATA_FILE_SIZE: 41905310
BYTE_COUNT: 5455
