FILENAME: O4810817.SES.1112744.tif
QUADRANGLE_NAME: HARLEM NW
QUADRANT: SE
WEST_LONGITUDE: -108 56 15.00000
EAST_LONGITUDE: -108 52 30.00000
NORTH_LATITUDE: 48 41 15.00000
SOUTH_LATITUDE: 48 37 30.00000
PRODUCTION_DATE: 2000 10 26
RASTER_ORDER: LEFT_RIGHT/TOP_BOTTOM
BAND_ORGANIZATION: SINGLE FILE
BAND_CONTENT: BLACK&WHITE
BAND_CONTENT: UNDEFINED
BAND_CONTENT: UNDEFINED
BITS_PER_PIXEL: 8
SAMPLES_AND_LINES: 5448 7678
HORIZONTAL_DATUM: NAD83
HORIZONTAL_COORDINATE_SYSTEM: UTM
COORDINATE_ZONE: 12
HORIZONTAL_UNITS: METERS
HORIZONTAL_RESOLUTION: 1.00000
SECONDARY_HORIZONTAL_DATUM: NAD27
XY_ORIGIN: 651440.00000 5395197.00000
SECONDARY_XY_ORIGIN: 651497.53800 5394979.32600
NATION: US
NATION: "SCIENCE
STATE: MT
NW_QUAD_CORNER_XY: 651793.79500 5394770.13100
NE_QUAD_CORNER_XY: 656393.34200 5394896.43600
SE_QUAD_CORNERY_XY: 656586.86100 5387949.62800
SW_QUAD_CORNER_XY: 651981.61800 5387823.28800
SECONDARY_NW_QUAD_XY: 651798.64000 5394551.20400
SECONDARY_NE_QUAD_XY: 656398.33400 5394677.51300
SECONDARY_SE_QUAD_XY: 656591.85200 5387730.71100
SECONDARY_SW_QUAD_XY: 651986.46300 5387604.36600
RMSE_XY: 1.00000
IMAGE_SOURCE: BLACK AND WHITE FILM
SOURCE_IMAGE_ID: NAPP 9147 153
SOURCE_IMAGE_DATE: 1996 08 24
SOURCE_DEM_DATE: 1975 00 00
AGENCY: WESTERN MAPPING CENTER (WMC)
PRODUCER: UNDEFINED
PRODUCTION_SYSTEM: GIS/MAGIC
COMPRESSION: UNDEFINED
STANDARD_VERSION: 1996 12
METADATA_DATE: 2000 11 30
DATA_FILE_SIZE: 41835192
BYTE_COUNT: 5448
