FILENAME: O4810817.SWS.1112745.tif
QUADRANGLE_NAME: HARLEM NW
QUADRANT: SW
WEST_LONGITUDE: -109 0 0.00000
EAST_LONGITUDE: -108 56 15.00000
NORTH_LATITUDE: 48 41 15.00000
SOUTH_LATITUDE: 48 37 30.00000
PRODUCTION_DATE: 2000 10 26
RASTER_ORDER: LEFT_RIGHT/TOP_BOTTOM
BAND_ORGANIZATION: SINGLE FILE
BAND_CONTENT: BLACK&WHITE
BAND_CONTENT: UNDEFINED
BAND_CONTENT: UNDEFINED
BITS_PER_PIXEL: 8
SAMPLES_AND_LINES: 5443 7674
HORIZONTAL_DATUM: NAD83
HORIZONTAL_COORDINATE_SYSTEM: UTM
COORDINATE_ZONE: 12
HORIZONTAL_UNITS: METERS
HORIZONTAL_RESOLUTION: 1.00000
SECONDARY_HORIZONTAL_DATUM: NAD27
XY_ORIGIN: 646840.00000 5395071.00000
SECONDARY_XY_ORIGIN: 646897.54200 5394853.24800
NATION: US
NATION: "SCIENCE
STATE: MT
NW_QUAD_CORNER_XY: 647194.22500 5394647.59900
NE_QUAD_CORNER_XY: 651793.79500 5394770.13100
SE_QUAD_CORNERY_XY: 651981.61800 5387823.28800
SW_QUAD_CORNER_XY: 647376.35300 5387700.72200
SECONDARY_NW_QUAD_XY: 647198.92300 5394428.66800
SECONDARY_NE_QUAD_XY: 651798.64000 5394551.20400
SECONDARY_SE_QUAD_XY: 651986.46300 5387604.36600
SECONDARY_SW_QUAD_XY: 647381.05100 5387481.79600
RMSE_XY: 1.00000
IMAGE_SOURCE: BLACK AND WHITE FILM
SOURCE_IMAGE_ID: NAPP 9147 178
SOURCE_IMAGE_DATE: 1996 08 24
SOURCE_DEM_DATE: 1975 00 00
AGENCY: WESTERN MAPPING CENTER (WMC)
PRODUCER: UNDEFINED
PRODUCTION_SYSTEM: GIS/MAGIC
COMPRESSION: UNDEFINED
STANDARD_VERSION: 1996 12
METADATA_DATE: 2000 11 30
DATA_FILE_SIZE: 41775025
BYTE_COUNT: 5443
