FILENAME: O4810816.SWS.1116548.tif
QUADRANGLE_NAME: HORSESHOE LAKE
QUADRANT: SW
WEST_LONGITUDE: -108 7 30.00000
EAST_LONGITUDE: -108 3 45.00000
NORTH_LATITUDE: 48 48 45.00000
SOUTH_LATITUDE: 48 45 0.00000
PRODUCTION_DATE: 2000 10 27
RASTER_ORDER: LEFT_RIGHT/TOP_BOTTOM
BAND_ORGANIZATION: SINGLE FILE
BAND_CONTENT: BLACK&WHITE
BAND_CONTENT: UNDEFINED
BAND_CONTENT: UNDEFINED
BITS_PER_PIXEL: 8
SAMPLES_AND_LINES: 5509 7726
HORIZONTAL_DATUM: NAD83
HORIZONTAL_COORDINATE_SYSTEM: UTM
COORDINATE_ZONE: 12
HORIZONTAL_UNITS: METERS
HORIZONTAL_RESOLUTION: 1.00000
SECONDARY_HORIZONTAL_DATUM: NAD27
XY_ORIGIN: 710710.00000 5411075.00000
SECONDARY_XY_ORIGIN: 710766.24200 5410857.19300
NATION: US
NATION: "SCIENCE
STATE: MT
NW_QUAD_CORNER_XY: 711061.28700 5410599.25900
NE_QUAD_CORNER_XY: 715649.05000 5410774.53600
SE_QUAD_CORNERY_XY: 715917.17000 5403828.16900
SW_QUAD_CORNER_XY: 711323.69400 5403652.84100
SECONDARY_NW_QUAD_XY: 711068.04200 5410380.38400
SECONDARY_NE_QUAD_XY: 715655.95100 5410555.66700
SECONDARY_SE_QUAD_XY: 715924.07000 5403609.30400
SECONDARY_SW_QUAD_XY: 711330.44800 5403433.97100
RMSE_XY: 0.90000
IMAGE_SOURCE: BLACK AND WHITE FILM
SOURCE_IMAGE_ID: NAPP 9142 160
SOURCE_IMAGE_DATE: 1996 08 24
SOURCE_DEM_DATE: 1975 00 00
AGENCY: WESTERN MAPPING CENTER (WMC)
PRODUCER: UNDEFINED
PRODUCTION_SYSTEM: GIS/MAGIC
COMPRESSION: UNDEFINED
STANDARD_VERSION: 1996 12
METADATA_DATE: 2000 11 30
DATA_FILE_SIZE: 42568043
BYTE_COUNT: 5509
