FILENAME: O4810814.NWS.1116386.tif
QUADRANGLE_NAME: TURNER SE
QUADRANT: NW
WEST_LONGITUDE: -108 22 30.00000
EAST_LONGITUDE: -108 18 45.00000
NORTH_LATITUDE: 48 52 30.00000
SOUTH_LATITUDE: 48 48 45.00000
PRODUCTION_DATE: 2000 10 24
RASTER_ORDER: LEFT_RIGHT/TOP_BOTTOM
BAND_ORGANIZATION: SINGLE FILE
BAND_CONTENT: BLACK&WHITE
BAND_CONTENT: UNDEFINED
BAND_CONTENT: UNDEFINED
BITS_PER_PIXEL: 8
SAMPLES_AND_LINES: 5481 7711
HORIZONTAL_DATUM: NAD83
HORIZONTAL_COORDINATE_SYSTEM: UTM
COORDINATE_ZONE: 12
HORIZONTAL_UNITS: METERS
HORIZONTAL_RESOLUTION: 1.00000
SECONDARY_HORIZONTAL_DATUM: NAD27
XY_ORIGIN: 692118.00000 5417343.00000
SECONDARY_XY_ORIGIN: 692174.47600 5417124.94100
NATION: US
NATION: "SCIENCE
STATE: MT
NW_QUAD_CORNER_XY: 692470.11700 5416882.56000
NE_QUAD_CORNER_XY: 697052.29300 5417042.69400
SE_QUAD_CORNERY_XY: 697297.80200 5410096.07200
SW_QUAD_CORNER_XY: 692709.91000 5409935.89100
SECONDARY_NW_QUAD_XY: 692476.28400 5416663.66000
SECONDARY_NE_QUAD_XY: 697058.60700 5416823.80000
SECONDARY_SE_QUAD_XY: 697304.11500 5409877.18100
SECONDARY_SW_QUAD_XY: 692716.07700 5409716.99500
RMSE_XY: 0.90000
IMAGE_SOURCE: BLACK AND WHITE FILM
SOURCE_IMAGE_ID: NAPP 9144 074
SOURCE_IMAGE_DATE: 1996 08 25
SOURCE_DEM_DATE: 1975 00 00
AGENCY: WESTERN MAPPING CENTER (WMC)
PRODUCER: UNDEFINED
PRODUCTION_SYSTEM: GIS/MAGIC
COMPRESSION: UNDEFINED
STANDARD_VERSION: 1996 12
METADATA_DATE: 2000 11 30
DATA_FILE_SIZE: 42269472
BYTE_COUNT: 5481
