FILENAME: O4810813.SES.1114564.tif
QUADRANGLE_NAME: TURNER
QUADRANT: SE
WEST_LONGITUDE: -108 26 15.00000
EAST_LONGITUDE: -108 22 30.00000
NORTH_LATITUDE: 48 48 45.00000
SOUTH_LATITUDE: 48 45 0.00000
PRODUCTION_DATE: 2000 10 24
RASTER_ORDER: LEFT_RIGHT/TOP_BOTTOM
BAND_ORGANIZATION: SINGLE FILE
BAND_CONTENT: BLACK&WHITE
BAND_CONTENT: UNDEFINED
BAND_CONTENT: UNDEFINED
BITS_PER_PIXEL: 8
SAMPLES_AND_LINES: 5481 7707
HORIZONTAL_DATUM: NAD83
HORIZONTAL_COORDINATE_SYSTEM: UTM
COORDINATE_ZONE: 12
HORIZONTAL_UNITS: METERS
HORIZONTAL_RESOLUTION: 1.00000
SECONDARY_HORIZONTAL_DATUM: NAD27
XY_ORIGIN: 687770.00000 5410236.00000
SECONDARY_XY_ORIGIN: 687826.78000 5410018.21100
NATION: US
NATION: "SCIENCE
STATE: MT
NW_QUAD_CORNER_XY: 688121.98800 5409779.48200
NE_QUAD_CORNER_XY: 692709.91000 5409935.89100
SE_QUAD_CORNERY_XY: 692949.47200 5402989.28200
SW_QUAD_CORNER_XY: 688355.84000 5402832.82800
SECONDARY_NW_QUAD_XY: 688128.00800 5409560.58100
SECONDARY_NE_QUAD_XY: 692716.07700 5409716.99500
SECONDARY_SE_QUAD_XY: 692955.63800 5402770.39000
SECONDARY_SW_QUAD_XY: 688361.85900 5402613.93100
RMSE_XY: 0.90000
IMAGE_SOURCE: BLACK AND WHITE FILM
SOURCE_IMAGE_ID: NAPP 9144 059
SOURCE_IMAGE_DATE: 1996 08 25
SOURCE_IMAGE_ID: NAPP 9144 057
SOURCE_IMAGE_DATE: 1996 08 25
SOURCE_DEM_DATE: 1975 00 00
AGENCY: WESTERN MAPPING CENTER (WMC)
PRODUCER: UNDEFINED
PRODUCTION_SYSTEM: GIS/MAGIC
COMPRESSION: UNDEFINED
STANDARD_VERSION: 1996 12
METADATA_DATE: 2000 11 14
DATA_FILE_SIZE: 42247548
BYTE_COUNT: 5481
