FILENAME: O4810813.SWS.1114565.tif
QUADRANGLE_NAME: TURNER
QUADRANT: SW
WEST_LONGITUDE: -108 30 0.00000
EAST_LONGITUDE: -108 26 15.00000
NORTH_LATITUDE: 48 48 45.00000
SOUTH_LATITUDE: 48 45 0.00000
PRODUCTION_DATE: 2000 10 24
RASTER_ORDER: LEFT_RIGHT/TOP_BOTTOM
BAND_ORGANIZATION: SINGLE FILE
BAND_CONTENT: BLACK&WHITE
BAND_CONTENT: UNDEFINED
BAND_CONTENT: UNDEFINED
BITS_PER_PIXEL: 8
SAMPLES_AND_LINES: 5475 7704
HORIZONTAL_DATUM: NAD83
HORIZONTAL_COORDINATE_SYSTEM: UTM
COORDINATE_ZONE: 12
HORIZONTAL_UNITS: METERS
HORIZONTAL_RESOLUTION: 1.00000
SECONDARY_HORIZONTAL_DATUM: NAD27
XY_ORIGIN: 683182.00000 5410080.00000
SECONDARY_XY_ORIGIN: 683238.88500 5409862.20700
NATION: US
NATION: "SCIENCE
STATE: MT
NW_QUAD_CORNER_XY: 683534.03600 5409626.84700
NE_QUAD_CORNER_XY: 688121.98800 5409779.48200
SE_QUAD_CORNERY_XY: 688355.84000 5402832.82800
SW_QUAD_CORNER_XY: 683762.17800 5402680.14900
SECONDARY_NW_QUAD_XY: 683539.90900 5409407.94100
SECONDARY_NE_QUAD_XY: 688128.00800 5409560.58100
SECONDARY_SE_QUAD_XY: 688361.85900 5402613.93100
SECONDARY_SW_QUAD_XY: 683768.05100 5402461.24700
RMSE_XY: 0.90000
IMAGE_SOURCE: BLACK AND WHITE FILM
SOURCE_IMAGE_ID: NAPP 9144 112
SOURCE_IMAGE_DATE: 1996 08 25
SOURCE_DEM_DATE: 1975 00 00
AGENCY: WESTERN MAPPING CENTER (WMC)
PRODUCER: UNDEFINED
PRODUCTION_SYSTEM: GIS/MAGIC
COMPRESSION: UNDEFINED
STANDARD_VERSION: 1996 12
METADATA_DATE: 2000 11 14
DATA_FILE_SIZE: 42184875
BYTE_COUNT: 5475
