FILENAME: O4810812.NES.1114514.tif
QUADRANGLE_NAME: HOGELAND SE
QUADRANT: NE
WEST_LONGITUDE: -108 33 45.00000
EAST_LONGITUDE: -108 30 0.00000
NORTH_LATITUDE: 48 52 30.00000
SOUTH_LATITUDE: 48 48 45.00000
PRODUCTION_DATE: 2000 10 24
RASTER_ORDER: LEFT_RIGHT/TOP_BOTTOM
BAND_ORGANIZATION: SINGLE FILE
BAND_CONTENT: BLACK&WHITE
BAND_CONTENT: UNDEFINED
BAND_CONTENT: UNDEFINED
BITS_PER_PIXEL: 8
SAMPLES_AND_LINES: 5465 7700
HORIZONTAL_DATUM: NAD83
HORIZONTAL_COORDINATE_SYSTEM: UTM
COORDINATE_ZONE: 12
HORIZONTAL_UNITS: METERS
HORIZONTAL_RESOLUTION: 1.00000
SECONDARY_HORIZONTAL_DATUM: NAD27
XY_ORIGIN: 678371.00000 5416874.00000
SECONDARY_XY_ORIGIN: 678427.78700 5416655.94700
NATION: US
NATION: "SCIENCE
STATE: MT
NW_QUAD_CORNER_XY: 678723.40800 5416424.78700
NE_QUAD_CORNER_XY: 683305.67400 5416573.60600
SE_QUAD_CORNERY_XY: 683534.03600 5409626.84700
SW_QUAD_CORNER_XY: 678946.05500 5409477.98400
SECONDARY_NW_QUAD_XY: 678729.13400 5416205.87300
SECONDARY_NE_QUAD_XY: 683311.54700 5416354.69700
SECONDARY_SE_QUAD_XY: 683539.90900 5409407.94100
SECONDARY_SW_QUAD_XY: 678951.78100 5409259.07300
RMSE_XY: 0.60000
IMAGE_SOURCE: BLACK AND WHITE FILM
SOURCE_IMAGE_ID: NAPP 9138 129
SOURCE_IMAGE_DATE: 1996 08 23
SOURCE_DEM_DATE: 1975 00 00
AGENCY: WESTERN MAPPING CENTER (WMC)
PRODUCER: UNDEFINED
PRODUCTION_SYSTEM: GIS/MAGIC
COMPRESSION: UNDEFINED
STANDARD_VERSION: 1996 12
METADATA_DATE: 2000 11 14
DATA_FILE_SIZE: 42085965
BYTE_COUNT: 5465
