FILENAME: O4810812.NWS.1114515.tif
QUADRANGLE_NAME: HOGELAND SE
QUADRANT: NW
WEST_LONGITUDE: -108 37 30.00000
EAST_LONGITUDE: -108 33 45.00000
NORTH_LATITUDE: 48 52 30.00000
SOUTH_LATITUDE: 48 48 45.00000
PRODUCTION_DATE: 2000 10 24
RASTER_ORDER: LEFT_RIGHT/TOP_BOTTOM
BAND_ORGANIZATION: SINGLE FILE
BAND_CONTENT: BLACK&WHITE
BAND_CONTENT: UNDEFINED
BAND_CONTENT: UNDEFINED
BITS_PER_PIXEL: 8
SAMPLES_AND_LINES: 5460 7696
HORIZONTAL_DATUM: NAD83
HORIZONTAL_COORDINATE_SYSTEM: UTM
COORDINATE_ZONE: 12
HORIZONTAL_UNITS: METERS
HORIZONTAL_RESOLUTION: 1.00000
SECONDARY_HORIZONTAL_DATUM: NAD27
XY_ORIGIN: 673788.00000 5416725.00000
SECONDARY_XY_ORIGIN: 673844.88800 5416506.95700
NATION: US
NATION: "SCIENCE
STATE: MT
NW_QUAD_CORNER_XY: 674141.11300 5416279.73900
NE_QUAD_CORNER_XY: 678723.40800 5416424.78700
SE_QUAD_CORNERY_XY: 678946.05500 5409477.98400
SW_QUAD_CORNER_XY: 674358.04600 5409332.89300
SECONDARY_NW_QUAD_XY: 674146.69300 5416060.82000
SECONDARY_NE_QUAD_XY: 678729.13400 5416205.87300
SECONDARY_SE_QUAD_XY: 678951.78100 5409259.07300
SECONDARY_SW_QUAD_XY: 674363.62600 5409113.97800
RMSE_XY: 0.70000
IMAGE_SOURCE: BLACK AND WHITE FILM
SOURCE_IMAGE_ID: NAPP 9138 142
SOURCE_IMAGE_DATE: 1996 08 23
SOURCE_DEM_DATE: 1975 00 00
AGENCY: WESTERN MAPPING CENTER (WMC)
PRODUCER: UNDEFINED
PRODUCTION_SYSTEM: GIS/MAGIC
COMPRESSION: UNDEFINED
STANDARD_VERSION: 1996 12
METADATA_DATE: 2000 11 14
DATA_FILE_SIZE: 42025620
BYTE_COUNT: 5460
