FILENAME: O4810812.SWS.1114517.tif
QUADRANGLE_NAME: HOGELAND SE
QUADRANT: SW
WEST_LONGITUDE: -108 37 30.00000
EAST_LONGITUDE: -108 33 45.00000
NORTH_LATITUDE: 48 48 45.00000
SOUTH_LATITUDE: 48 45 0.00000
PRODUCTION_DATE: 2000 10 24
RASTER_ORDER: LEFT_RIGHT/TOP_BOTTOM
BAND_ORGANIZATION: SINGLE FILE
BAND_CONTENT: BLACK&WHITE
BAND_CONTENT: UNDEFINED
BAND_CONTENT: UNDEFINED
BITS_PER_PIXEL: 8
SAMPLES_AND_LINES: 5465 7696
HORIZONTAL_DATUM: NAD83
HORIZONTAL_COORDINATE_SYSTEM: UTM
COORDINATE_ZONE: 12
HORIZONTAL_UNITS: METERS
HORIZONTAL_RESOLUTION: 1.00000
SECONDARY_HORIZONTAL_DATUM: NAD27
XY_ORIGIN: 674005.00000 5409778.00000
SECONDARY_XY_ORIGIN: 674062.06500 5409560.19900
NATION: US
NATION: "SCIENCE
STATE: MT
NW_QUAD_CORNER_XY: 674358.04600 5409332.89300
NE_QUAD_CORNER_XY: 678946.05500 5409477.98400
SE_QUAD_CORNERY_XY: 679168.48800 5402531.24300
SW_QUAD_CORNER_XY: 674574.77000 5402386.11100
SECONDARY_NW_QUAD_XY: 674363.62600 5409113.97800
SECONDARY_NE_QUAD_XY: 678951.78100 5409259.07300
SECONDARY_SE_QUAD_XY: 679174.21400 5402312.33700
SECONDARY_SW_QUAD_XY: 674580.35000 5402167.20000
RMSE_XY: 0.70000
IMAGE_SOURCE: BLACK AND WHITE FILM
SOURCE_IMAGE_ID: NAPP 9138 144
SOURCE_IMAGE_DATE: 1996 08 23
SOURCE_DEM_DATE: 1975 00 00
AGENCY: WESTERN MAPPING CENTER (WMC)
PRODUCER: UNDEFINED
PRODUCTION_SYSTEM: GIS/MAGIC
COMPRESSION: UNDEFINED
STANDARD_VERSION: 1996 12
METADATA_DATE: 2000 11 14
DATA_FILE_SIZE: 42064105
BYTE_COUNT: 5465
