FILENAME: O4810811.NWS.1112803.tif
QUADRANGLE_NAME: HOGELAND
QUADRANT: NW
WEST_LONGITUDE: -108 45 0.00000
EAST_LONGITUDE: -108 41 15.00000
NORTH_LATITUDE: 48 52 30.00000
SOUTH_LATITUDE: 48 48 45.00000
PRODUCTION_DATE: 2000 10 27
RASTER_ORDER: LEFT_RIGHT/TOP_BOTTOM
BAND_ORGANIZATION: SINGLE FILE
BAND_CONTENT: BLACK&WHITE
BAND_CONTENT: UNDEFINED
BAND_CONTENT: UNDEFINED
BITS_PER_PIXEL: 8
SAMPLES_AND_LINES: 5449 7689
HORIZONTAL_DATUM: NAD83
HORIZONTAL_COORDINATE_SYSTEM: UTM
COORDINATE_ZONE: 12
HORIZONTAL_UNITS: METERS
HORIZONTAL_RESOLUTION: 1.00000
SECONDARY_HORIZONTAL_DATUM: NAD27
XY_ORIGIN: 664623.00000 5416439.00000
SECONDARY_XY_ORIGIN: 664680.08900 5416220.97500
NATION: US
NATION: "SCIENCE
STATE: MT
NW_QUAD_CORNER_XY: 664976.44100 5416000.95500
NE_QUAD_CORNER_XY: 669558.79000 5416138.46200
SE_QUAD_CORNERY_XY: 669770.01000 5409191.57500
SW_QUAD_CORNER_XY: 665181.94700 5409054.02800
SECONDARY_NW_QUAD_XY: 664981.72600 5415782.02800
SECONDARY_NE_QUAD_XY: 669564.22300 5415919.53900
SECONDARY_SE_QUAD_XY: 669775.44200 5408972.65500
SECONDARY_SW_QUAD_XY: 665187.23200 5408835.10400
RMSE_XY: 1.50000
IMAGE_SOURCE: BLACK AND WHITE FILM
SOURCE_IMAGE_ID: NAPP 9144 226
SOURCE_IMAGE_DATE: 1996 08 25
SOURCE_DEM_DATE: 1975 00 00
AGENCY: WESTERN MAPPING CENTER (WMC)
PRODUCER: UNDEFINED
PRODUCTION_SYSTEM: GIS/MAGIC
COMPRESSION: UNDEFINED
STANDARD_VERSION: 1996 12
METADATA_DATE: 2000 11 30
DATA_FILE_SIZE: 41902810
BYTE_COUNT: 5449
