FILENAME: O4810810.NWS.1112759.tif
QUADRANGLE_NAME: SILVER BOW SPRING
QUADRANT: NW
WEST_LONGITUDE: -108 52 30.00000
EAST_LONGITUDE: -108 48 45.00000
NORTH_LATITUDE: 48 52 30.00000
SOUTH_LATITUDE: 48 48 45.00000
PRODUCTION_DATE: 2000 10 27
RASTER_ORDER: LEFT_RIGHT/TOP_BOTTOM
BAND_ORGANIZATION: SINGLE FILE
BAND_CONTENT: BLACK&WHITE
BAND_CONTENT: UNDEFINED
BAND_CONTENT: UNDEFINED
BITS_PER_PIXEL: 8
SAMPLES_AND_LINES: 5437 7681
HORIZONTAL_DATUM: NAD83
HORIZONTAL_COORDINATE_SYSTEM: UTM
COORDINATE_ZONE: 12
HORIZONTAL_UNITS: METERS
HORIZONTAL_RESOLUTION: 1.00000
SECONDARY_HORIZONTAL_DATUM: NAD27
XY_ORIGIN: 655458.00000 5416168.00000
SECONDARY_XY_ORIGIN: 655515.02500 5415949.79200
NATION: US
NATION: "SCIENCE
STATE: MT
NW_QUAD_CORNER_XY: 655811.66300 5415737.25300
NE_QUAD_CORNER_XY: 660394.06500 5415867.21900
SE_QUAD_CORNERY_XY: 660593.85700 5408920.25300
SW_QUAD_CORNER_XY: 656005.74300 5408790.24900
SECONDARY_NW_QUAD_XY: 655816.65500 5415518.31700
SECONDARY_NE_QUAD_XY: 660399.20400 5415648.28700
SECONDARY_SE_QUAD_XY: 660598.99600 5408701.32400
SECONDARY_SW_QUAD_XY: 656010.73500 5408571.31600
RMSE_XY: 1.50000
IMAGE_SOURCE: BLACK AND WHITE FILM
SOURCE_IMAGE_ID: NAPP 9157 104
SOURCE_IMAGE_DATE: 1997 09 05
SOURCE_IMAGE_ID: NAPP 9147 159
SOURCE_IMAGE_DATE: 1996 08 24
SOURCE_DEM_DATE: 1975 00 00
AGENCY: WESTERN MAPPING CENTER (WMC)
PRODUCER: UNDEFINED
PRODUCTION_SYSTEM: GIS/MAGIC
COMPRESSION: UNDEFINED
STANDARD_VERSION: 1996 12
METADATA_DATE: 2000 11 13
DATA_FILE_SIZE: 41767034
BYTE_COUNT: 5437
