FILENAME: O4810805.NWS.1114583.tif
QUADRANGLE_NAME: TURNER NW
QUADRANT: NW
WEST_LONGITUDE: -108 30 0.00000
EAST_LONGITUDE: -108 26 15.00000
NORTH_LATITUDE: 49 0 0.00000
SOUTH_LATITUDE: 48 56 15.00000
PRODUCTION_DATE: 2000 11 1
RASTER_ORDER: LEFT_RIGHT/TOP_BOTTOM
BAND_ORGANIZATION: SINGLE FILE
BAND_CONTENT: BLACK&WHITE
BAND_CONTENT: UNDEFINED
BAND_CONTENT: UNDEFINED
BITS_PER_PIXEL: 8
SAMPLES_AND_LINES: 5459 7703
HORIZONTAL_DATUM: NAD83
HORIZONTAL_COORDINATE_SYSTEM: UTM
COORDINATE_ZONE: 12
HORIZONTAL_UNITS: METERS
HORIZONTAL_RESOLUTION: 1.00000
SECONDARY_HORIZONTAL_DATUM: NAD27
XY_ORIGIN: 682496.00000 5430920.00000
SECONDARY_XY_ORIGIN: 682552.30000 5430701.40900
NATION: US
NATION: CA
NATION: "SCIENCE
STATE: MT
NW_QUAD_CORNER_XY: 682848.29100 5430467.30900
NE_QUAD_CORNER_XY: 687419.08100 5430619.80800
SE_QUAD_CORNERY_XY: 687653.60800 5423672.97200
SW_QUAD_CORNER_XY: 683077.09200 5423520.42700
SECONDARY_NW_QUAD_XY: 682854.16500 5430248.39600
SECONDARY_NE_QUAD_XY: 687425.10200 5430400.90000
SECONDARY_SE_QUAD_XY: 687659.62900 5423454.06600
SECONDARY_SW_QUAD_XY: 683082.96500 5423301.51500
RMSE_XY: 1.00000
IMAGE_SOURCE: BLACK AND WHITE FILM
SOURCE_IMAGE_ID: NAPP 9144 106
SOURCE_IMAGE_DATE: 1996 08 25
SOURCE_DEM_DATE: 1993 00 00
AGENCY: WESTERN MAPPING CENTER (WMC)
PRODUCER: UNDEFINED
PRODUCTION_SYSTEM: GIS/MAGIC
COMPRESSION: UNDEFINED
STANDARD_VERSION: 1996 12
METADATA_DATE: 2000 11 30
DATA_FILE_SIZE: 42056136
BYTE_COUNT: 5459
