FILENAME: O4810805.SES.1114584.tif
QUADRANGLE_NAME: TURNER NW
QUADRANT: SE
WEST_LONGITUDE: -108 26 15.00000
EAST_LONGITUDE: -108 22 30.00000
NORTH_LATITUDE: 48 56 15.00000
SOUTH_LATITUDE: 48 52 30.00000
PRODUCTION_DATE: 2000 10 24
RASTER_ORDER: LEFT_RIGHT/TOP_BOTTOM
BAND_ORGANIZATION: SINGLE FILE
BAND_CONTENT: BLACK&WHITE
BAND_CONTENT: UNDEFINED
BAND_CONTENT: UNDEFINED
BITS_PER_PIXEL: 8
SAMPLES_AND_LINES: 5470 7707
HORIZONTAL_DATUM: NAD83
HORIZONTAL_COORDINATE_SYSTEM: UTM
COORDINATE_ZONE: 12
HORIZONTAL_UNITS: METERS
HORIZONTAL_RESOLUTION: 1.00000
SECONDARY_HORIZONTAL_DATUM: NAD27
XY_ORIGIN: 687302.00000 5424130.00000
SECONDARY_XY_ORIGIN: 687358.38600 5423911.67100
NATION: US
NATION: "SCIENCE
STATE: MT
NW_QUAD_CORNER_XY: 687653.60800 5423672.97200
NE_QUAD_CORNER_XY: 692230.09400 5423829.28800
SE_QUAD_CORNERY_XY: 692470.11700 5416882.56000
SW_QUAD_CORNER_XY: 687887.91100 5416726.19700
SECONDARY_NW_QUAD_XY: 687659.62900 5423454.06600
SECONDARY_NE_QUAD_XY: 692236.26100 5423610.38600
SECONDARY_SE_QUAD_XY: 692476.28400 5416663.66000
SECONDARY_SW_QUAD_XY: 687893.93100 5416507.29300
RMSE_XY: 0.90000
IMAGE_SOURCE: BLACK AND WHITE FILM
SOURCE_IMAGE_ID: NAPP 9144 063
SOURCE_IMAGE_DATE: 1996 08 25
SOURCE_DEM_DATE: 1993 00 00
AGENCY: WESTERN MAPPING CENTER (WMC)
PRODUCER: UNDEFINED
PRODUCTION_SYSTEM: GIS/MAGIC
COMPRESSION: UNDEFINED
STANDARD_VERSION: 1996 12
METADATA_DATE: 2000 11 30
DATA_FILE_SIZE: 42162760
BYTE_COUNT: 5470
