FILENAME: O4810804.NES.1114534.tif
QUADRANGLE_NAME: MOSQUITO SPRINGS
QUADRANT: NE
WEST_LONGITUDE: -108 33 45.00000
EAST_LONGITUDE: -108 30 0.00000
NORTH_LATITUDE: 49 0 0.00000
SOUTH_LATITUDE: 48 56 15.00000
PRODUCTION_DATE: 2000 11 1
RASTER_ORDER: LEFT_RIGHT/TOP_BOTTOM
BAND_ORGANIZATION: SINGLE FILE
BAND_CONTENT: BLACK&WHITE
BAND_CONTENT: UNDEFINED
BAND_CONTENT: UNDEFINED
BITS_PER_PIXEL: 8
SAMPLES_AND_LINES: 5454 7699
HORIZONTAL_DATUM: NAD83
HORIZONTAL_COORDINATE_SYSTEM: UTM
COORDINATE_ZONE: 12
HORIZONTAL_UNITS: METERS
HORIZONTAL_RESOLUTION: 1.00000
SECONDARY_HORIZONTAL_DATUM: NAD27
XY_ORIGIN: 677925.00000 5430768.00000
SECONDARY_XY_ORIGIN: 677981.41600 5430549.44200
NATION: US
NATION: CA
NATION: "SCIENCE
STATE: MT
NW_QUAD_CORNER_XY: 678277.47100 5430318.57900
NE_QUAD_CORNER_XY: 682848.29100 5430467.30900
SE_QUAD_CORNERY_XY: 683077.09200 5423520.42700
SW_QUAD_CORNER_XY: 678500.54600 5423371.65200
SECONDARY_NW_QUAD_XY: 678283.19700 5430099.66100
SECONDARY_NE_QUAD_XY: 682854.16500 5430248.39600
SECONDARY_SE_QUAD_XY: 683082.96500 5423301.51500
SECONDARY_SW_QUAD_XY: 678506.27300 5423152.73600
RMSE_XY: 1.20000
IMAGE_SOURCE: BLACK AND WHITE FILM
SOURCE_IMAGE_ID: NAPP 9138 133
SOURCE_IMAGE_DATE: 1996 08 23
SOURCE_DEM_DATE: 1993 00 00
AGENCY: WESTERN MAPPING CENTER (WMC)
PRODUCER: UNDEFINED
PRODUCTION_SYSTEM: GIS/MAGIC
COMPRESSION: UNDEFINED
STANDARD_VERSION: 1996 12
METADATA_DATE: 2000 11 30
DATA_FILE_SIZE: 41995800
BYTE_COUNT: 5454
