FILENAME: O4810804.NWS.1114535.tif
QUADRANGLE_NAME: MOSQUITO SPRINGS
QUADRANT: NW
WEST_LONGITUDE: -108 37 30.00000
EAST_LONGITUDE: -108 33 45.00000
NORTH_LATITUDE: 49 0 0.00000
SOUTH_LATITUDE: 48 56 15.00000
PRODUCTION_DATE: 2000 11 1
RASTER_ORDER: LEFT_RIGHT/TOP_BOTTOM
BAND_ORGANIZATION: SINGLE FILE
BAND_CONTENT: BLACK&WHITE
BAND_CONTENT: UNDEFINED
BAND_CONTENT: UNDEFINED
BITS_PER_PIXEL: 8
SAMPLES_AND_LINES: 5448 7696
HORIZONTAL_DATUM: NAD83
HORIZONTAL_COORDINATE_SYSTEM: UTM
COORDINATE_ZONE: 12
HORIZONTAL_UNITS: METERS
HORIZONTAL_RESOLUTION: 1.00000
SECONDARY_HORIZONTAL_DATUM: NAD27
XY_ORIGIN: 673354.00000 5430619.00000
SECONDARY_XY_ORIGIN: 673410.53500 5430400.47500
NATION: US
NATION: CA
NATION: "SCIENCE
STATE: MT
NW_QUAD_CORNER_XY: 673706.62100 5430173.61800
NE_QUAD_CORNER_XY: 678277.47100 5430318.57900
SE_QUAD_CORNERY_XY: 678500.54600 5423371.65200
SW_QUAD_CORNER_XY: 673923.97100 5423226.64700
SECONDARY_NW_QUAD_XY: 673712.20100 5429954.69500
SECONDARY_NE_QUAD_XY: 678283.19700 5430099.66100
SECONDARY_SE_QUAD_XY: 678506.27300 5423152.73600
SECONDARY_SW_QUAD_XY: 673929.55100 5423007.72600
RMSE_XY: 1.40000
IMAGE_SOURCE: BLACK AND WHITE FILM
SOURCE_IMAGE_ID: NAPP 9138 138
SOURCE_IMAGE_DATE: 1996 08 23
SOURCE_DEM_DATE: 1993 00 00
AGENCY: WESTERN MAPPING CENTER (WMC)
PRODUCER: UNDEFINED
PRODUCTION_SYSTEM: GIS/MAGIC
COMPRESSION: UNDEFINED
STANDARD_VERSION: 1996 12
METADATA_DATE: 2000 11 30
DATA_FILE_SIZE: 41933256
BYTE_COUNT: 5448
