FILENAME: O4810803.SES.1112800.tif
QUADRANGLE_NAME: HOGELAND NW
QUADRANT: SE
WEST_LONGITUDE: -108 41 15.00000
EAST_LONGITUDE: -108 37 30.00000
NORTH_LATITUDE: 48 56 15.00000
SOUTH_LATITUDE: 48 52 30.00000
PRODUCTION_DATE: 2000 10 30
RASTER_ORDER: LEFT_RIGHT/TOP_BOTTOM
BAND_ORGANIZATION: SINGLE FILE
BAND_CONTENT: BLACK&WHITE
BAND_CONTENT: UNDEFINED
BAND_CONTENT: UNDEFINED
BITS_PER_PIXEL: 8
SAMPLES_AND_LINES: 5449 7692
HORIZONTAL_DATUM: NAD83
HORIZONTAL_COORDINATE_SYSTEM: UTM
COORDINATE_ZONE: 12
HORIZONTAL_UNITS: METERS
HORIZONTAL_RESOLUTION: 1.00000
SECONDARY_HORIZONTAL_DATUM: NAD27
XY_ORIGIN: 668994.00000 5423527.00000
SECONDARY_XY_ORIGIN: 669050.82100 5423308.73700
NATION: US
NATION: "SCIENCE
STATE: MT
NW_QUAD_CORNER_XY: 669347.36800 5423085.41200
NE_QUAD_CORNER_XY: 673923.97100 5423226.64700
SE_QUAD_CORNERY_XY: 674141.11300 5416279.73900
SW_QUAD_CORNER_XY: 669558.79000 5416138.46200
SECONDARY_NW_QUAD_XY: 669352.80100 5422866.48600
SECONDARY_NE_QUAD_XY: 673929.55100 5423007.72600
SECONDARY_SE_QUAD_XY: 674146.69300 5416060.82000
SECONDARY_SW_QUAD_XY: 669564.22300 5415919.53900
RMSE_XY: 1.10000
IMAGE_SOURCE: BLACK AND WHITE FILM
SOURCE_IMAGE_ID: NAPP 9144 215
SOURCE_IMAGE_DATE: 1996 08 25
SOURCE_DEM_DATE: 1993 00 00
AGENCY: WESTERN MAPPING CENTER (WMC)
PRODUCER: UNDEFINED
PRODUCTION_SYSTEM: GIS/MAGIC
COMPRESSION: UNDEFINED
STANDARD_VERSION: 1996 12
METADATA_DATE: 2000 11 30
DATA_FILE_SIZE: 41919157
BYTE_COUNT: 5449
