FILENAME: O4810802.SES.1112772.tif
QUADRANGLE_NAME: AUBREY DAM
QUADRANT: SE
WEST_LONGITUDE: -108 48 45.00000
EAST_LONGITUDE: -108 45 0.00000
NORTH_LATITUDE: 48 56 15.00000
SOUTH_LATITUDE: 48 52 30.00000
PRODUCTION_DATE: 2000 10 30
RASTER_ORDER: LEFT_RIGHT/TOP_BOTTOM
BAND_ORGANIZATION: SINGLE FILE
BAND_CONTENT: BLACK&WHITE
BAND_CONTENT: UNDEFINED
BAND_CONTENT: UNDEFINED
BITS_PER_PIXEL: 8
SAMPLES_AND_LINES: 5437 7684
HORIZONTAL_DATUM: NAD83
HORIZONTAL_COORDINATE_SYSTEM: UTM
COORDINATE_ZONE: 12
HORIZONTAL_UNITS: METERS
HORIZONTAL_RESOLUTION: 1.00000
SECONDARY_HORIZONTAL_DATUM: NAD27
XY_ORIGIN: 659841.00000 5423248.00000
SECONDARY_XY_ORIGIN: 659897.88100 5423029.66300
NATION: US
NATION: "SCIENCE
STATE: MT
NW_QUAD_CORNER_XY: 660194.08000 5422814.25000
NE_QUAD_CORNER_XY: 664770.73700 5422947.94600
SE_QUAD_CORNERY_XY: 664976.44100 5416000.95500
SW_QUAD_CORNER_XY: 660394.06500 5415867.21900
SECONDARY_NW_QUAD_XY: 660199.21800 5422595.31600
SECONDARY_NE_QUAD_XY: 664776.02300 5422729.01600
SECONDARY_SE_QUAD_XY: 664981.72600 5415782.02800
SECONDARY_SW_QUAD_XY: 660399.20400 5415648.28700
RMSE_XY: 0.80000
IMAGE_SOURCE: BLACK AND WHITE FILM
SOURCE_IMAGE_ID: NAPP 9157 115
SOURCE_IMAGE_DATE: 1997 09 05
SOURCE_DEM_DATE: 1975 00 00
AGENCY: WESTERN MAPPING CENTER (WMC)
PRODUCER: UNDEFINED
PRODUCTION_SYSTEM: GIS/MAGIC
COMPRESSION: UNDEFINED
STANDARD_VERSION: 1996 12
METADATA_DATE: 2000 11 30
DATA_FILE_SIZE: 41783345
BYTE_COUNT: 5437
