FILENAME: O4810802.SWS.1112773.tif
QUADRANGLE_NAME: AUBREY DAM
QUADRANT: SW
WEST_LONGITUDE: -108 52 30.00000
EAST_LONGITUDE: -108 48 45.00000
NORTH_LATITUDE: 48 56 15.00000
SOUTH_LATITUDE: 48 52 30.00000
PRODUCTION_DATE: 2000 10 30
RASTER_ORDER: LEFT_RIGHT/TOP_BOTTOM
BAND_ORGANIZATION: SINGLE FILE
BAND_CONTENT: BLACK&WHITE
BAND_CONTENT: UNDEFINED
BAND_CONTENT: UNDEFINED
BITS_PER_PIXEL: 8
SAMPLES_AND_LINES: 5432 7681
HORIZONTAL_DATUM: NAD83
HORIZONTAL_COORDINATE_SYSTEM: UTM
COORDINATE_ZONE: 12
HORIZONTAL_UNITS: METERS
HORIZONTAL_RESOLUTION: 1.00000
SECONDARY_HORIZONTAL_DATUM: NAD27
XY_ORIGIN: 655264.00000 5423115.00000
SECONDARY_XY_ORIGIN: 655320.83300 5422896.57100
NATION: US
NATION: "SCIENCE
STATE: MT
NW_QUAD_CORNER_XY: 655617.39600 5422684.32300
NE_QUAD_CORNER_XY: 660194.08000 5422814.25000
SE_QUAD_CORNERY_XY: 660394.06500 5415867.21900
SW_QUAD_CORNER_XY: 655811.66300 5415737.25300
SECONDARY_NW_QUAD_XY: 655622.38800 5422465.38400
SECONDARY_NE_QUAD_XY: 660199.21800 5422595.31600
SECONDARY_SE_QUAD_XY: 660399.20400 5415648.28700
SECONDARY_SW_QUAD_XY: 655816.65500 5415518.31700
RMSE_XY: 1.40000
IMAGE_SOURCE: BLACK AND WHITE FILM
SOURCE_IMAGE_ID: NAPP 9157 106
SOURCE_IMAGE_DATE: 1997 09 05
SOURCE_DEM_DATE: 1975 00 00
AGENCY: WESTERN MAPPING CENTER (WMC)
PRODUCER: UNDEFINED
PRODUCTION_SYSTEM: GIS/MAGIC
COMPRESSION: UNDEFINED
STANDARD_VERSION: 1996 12
METADATA_DATE: 2000 11 30
DATA_FILE_SIZE: 41728624
BYTE_COUNT: 5432
