FILENAME: O4810801.NWS.1112735.tif
QUADRANGLE_NAME: IRVINS COULEE
QUADRANT: NW
WEST_LONGITUDE: -109 0 0.00000
EAST_LONGITUDE: -108 56 15.00000
NORTH_LATITUDE: 49 0 0.00000
SOUTH_LATITUDE: 48 56 15.00000
PRODUCTION_DATE: 2000 11 6
RASTER_ORDER: LEFT_RIGHT/TOP_BOTTOM
BAND_ORGANIZATION: SINGLE FILE
BAND_CONTENT: BLACK&WHITE
BAND_CONTENT: UNDEFINED
BAND_CONTENT: UNDEFINED
BITS_PER_PIXEL: 8
SAMPLES_AND_LINES: 5414 7673
HORIZONTAL_DATUM: NAD83
HORIZONTAL_COORDINATE_SYSTEM: UTM
COORDINATE_ZONE: 12
HORIZONTAL_UNITS: METERS
HORIZONTAL_RESOLUTION: 1.00000
SECONDARY_HORIZONTAL_DATUM: NAD27
XY_ORIGIN: 645928.00000 5429806.00000
SECONDARY_XY_ORIGIN: 645984.51600 5429587.16400
NATION: US
NATION: CA
NATION: "SCIENCE
STATE: MT
NW_QUAD_CORNER_XY: 646280.94600 5429382.98400
NE_QUAD_CORNER_XY: 650851.95700 5429505.33700
SE_QUAD_CORNERY_XY: 651040.68700 5422558.16400
SW_QUAD_CORNER_XY: 646463.95400 5422435.77400
SECONDARY_NW_QUAD_XY: 646285.64500 5429164.03500
SECONDARY_NE_QUAD_XY: 650856.80200 5429286.39200
SECONDARY_SE_QUAD_XY: 651045.53200 5422339.22100
SECONDARY_SW_QUAD_XY: 646468.65200 5422216.82700
RMSE_XY: 1.20000
IMAGE_SOURCE: BLACK AND WHITE FILM
SOURCE_IMAGE_ID: NAPP 9147 168
SOURCE_IMAGE_DATE: 1996 08 24
SOURCE_IMAGE_ID: NAPP 9147 167
SOURCE_IMAGE_DATE: 1996 08 24
SOURCE_DEM_DATE: 1975 00 00
AGENCY: WESTERN MAPPING CENTER (WMC)
PRODUCER: UNDEFINED
PRODUCTION_SYSTEM: GIS/MAGIC
COMPRESSION: UNDEFINED
STANDARD_VERSION: 1996 12
METADATA_DATE: 2000 11 30
DATA_FILE_SIZE: 41547036
BYTE_COUNT: 5414
