FILENAME: O4810964.NES.1080682.tif
QUADRANGLE_NAME: RATTLESNAKE
QUADRANT: NE
WEST_LONGITUDE: -109 3 45.00000
EAST_LONGITUDE: -109 0 0.00000
NORTH_LATITUDE: 48 7 30.00000
SOUTH_LATITUDE: 48 3 45.00000
PRODUCTION_DATE: 2000 5 31
RASTER_ORDER: LEFT_RIGHT/TOP_BOTTOM
BAND_ORGANIZATION: SINGLE FILE
BAND_CONTENT: BLACK&WHITE
BAND_CONTENT: UNDEFINED
BAND_CONTENT: UNDEFINED
BITS_PER_PIXEL: 8
SAMPLES_AND_LINES: 5488 7671
HORIZONTAL_DATUM: NAD83
HORIZONTAL_COORDINATE_SYSTEM: UTM
COORDINATE_ZONE: 12
HORIZONTAL_UNITS: METERS
HORIZONTAL_RESOLUTION: 1.00000
SECONDARY_HORIZONTAL_DATUM: NAD27
XY_ORIGIN: 643821.00000 5332429.00000
SECONDARY_XY_ORIGIN: 643879.50000 5332212.64700
NATION: US
NATION: "SCIENCE
STATE: MT
NW_QUAD_CORNER_XY: 644176.34500 5332009.06600
NE_QUAD_CORNER_XY: 648826.99400 5332128.10200
SE_QUAD_CORNERY_XY: 649007.52400 5325181.82400
SW_QUAD_CORNER_XY: 644351.22900 5325062.76000
SECONDARY_NW_QUAD_XY: 644180.89400 5331790.21400
SECONDARY_NE_QUAD_XY: 648831.69000 5331909.25400
SECONDARY_SE_QUAD_XY: 649012.21900 5324962.99000
SECONDARY_SW_QUAD_XY: 644355.77800 5324843.92300
RMSE_XY: 1.10000
IMAGE_SOURCE: BLACK AND WHITE FILM
SOURCE_IMAGE_ID: NAPP 9129 024
SOURCE_IMAGE_DATE: 1996 07 27
SOURCE_IMAGE_ID: NAPP 9129 213
SOURCE_IMAGE_DATE: 1996 07 27
SOURCE_IMAGE_ID: NAPP 9129 025
SOURCE_IMAGE_DATE: 1996 07 27
SOURCE_IMAGE_ID: NAPP 9129 023
SOURCE_IMAGE_DATE: 1996 07 27
SOURCE_DEM_DATE: 1998 00 00
AGENCY: WESTERN MAPPING CENTER (WMC)
PRODUCER: UNDEFINED
PRODUCTION_SYSTEM: GIS/MAGIC
COMPRESSION: UNDEFINED
STANDARD_VERSION: 1996 12
METADATA_DATE: 2000 06 14
DATA_FILE_SIZE: 42103936
BYTE_COUNT: 5488
