FILENAME: O4810963.NWS.1080650.tif
QUADRANGLE_NAME: RUNYAN BENCH
QUADRANT: NW
WEST_LONGITUDE: -109 15 0.00000
EAST_LONGITUDE: -109 11 15.00000
NORTH_LATITUDE: 48 7 30.00000
SOUTH_LATITUDE: 48 3 45.00000
PRODUCTION_DATE: 2000 5 19
RASTER_ORDER: LEFT_RIGHT/TOP_BOTTOM
BAND_ORGANIZATION: SINGLE FILE
BAND_CONTENT: BLACK&WHITE
BAND_CONTENT: UNDEFINED
BAND_CONTENT: UNDEFINED
BITS_PER_PIXEL: 8
SAMPLES_AND_LINES: 5472 7660
HORIZONTAL_DATUM: NAD83
HORIZONTAL_COORDINATE_SYSTEM: UTM
COORDINATE_ZONE: 12
HORIZONTAL_UNITS: METERS
HORIZONTAL_RESOLUTION: 1.00000
SECONDARY_HORIZONTAL_DATUM: NAD27
XY_ORIGIN: 629868.00000 5332083.00000
SECONDARY_XY_ORIGIN: 629926.49900 5331866.64000
NATION: US
NATION: "SCIENCE
STATE: MT
NW_QUAD_CORNER_XY: 630224.28800 5331674.64500
NE_QUAD_CORNER_XY: 634874.99100 5331782.33800
SE_QUAD_CORNERY_XY: 635038.58600 5324835.97900
SW_QUAD_CORNER_XY: 630382.23900 5324728.26100
SECONDARY_NW_QUAD_XY: 630228.39700 5331455.78300
SECONDARY_NE_QUAD_XY: 634879.24700 5331563.47900
SECONDARY_SE_QUAD_XY: 635042.84200 5324617.13400
SECONDARY_SW_QUAD_XY: 630386.34800 5324509.41300
RMSE_XY: 1.90000
IMAGE_SOURCE: BLACK AND WHITE FILM
SOURCE_IMAGE_ID: NAPP 9145 034
SOURCE_IMAGE_DATE: 1996 08 25
SOURCE_IMAGE_ID: NAPP 9156 024
SOURCE_IMAGE_DATE: 1997 08 29
SOURCE_IMAGE_ID: NAPP 9130 031
SOURCE_IMAGE_DATE: 1996 07 27
SOURCE_IMAGE_ID: NAPP 9130 029
SOURCE_IMAGE_DATE: 1996 07 27
SOURCE_DEM_DATE: 1987 00 00
AGENCY: WESTERN MAPPING CENTER (WMC)
PRODUCER: UNDEFINED
PRODUCTION_SYSTEM: GIS/MAGIC
COMPRESSION: UNDEFINED
STANDARD_VERSION: 1996 12
METADATA_DATE: 2000 06 14
DATA_FILE_SIZE: 41920992
BYTE_COUNT: 5472
