FILENAME: O4810958.NWS.1080491.tif
QUADRANGLE_NAME: RYAN BUTTE
QUADRANT: NW
WEST_LONGITUDE: -109 52 30.00000
EAST_LONGITUDE: -109 48 45.00000
NORTH_LATITUDE: 48 7 30.00000
SOUTH_LATITUDE: 48 3 45.00000
PRODUCTION_DATE: 2000 6 2
RASTER_ORDER: LEFT_RIGHT/TOP_BOTTOM
BAND_ORGANIZATION: SINGLE FILE
BAND_CONTENT: BLACK&WHITE
BAND_CONTENT: UNDEFINED
BAND_CONTENT: UNDEFINED
BITS_PER_PIXEL: 8
SAMPLES_AND_LINES: 5417 7622
HORIZONTAL_DATUM: NAD83
HORIZONTAL_COORDINATE_SYSTEM: UTM
COORDINATE_ZONE: 12
HORIZONTAL_UNITS: METERS
HORIZONTAL_RESOLUTION: 1.00000
SECONDARY_HORIZONTAL_DATUM: NAD27
XY_ORIGIN: 583359.00000 5331176.00000
SECONDARY_XY_ORIGIN: 583417.92700 5330959.84800
NATION: US
NATION: "SCIENCE
STATE: MT
NW_QUAD_CORNER_XY: 583716.43700 5330805.62100
NE_QUAD_CORNER_XY: 588367.28000 5330875.51600
SE_QUAD_CORNERY_XY: 588474.44600 5323928.94600
SW_QUAD_CORNER_XY: 583817.96100 5323859.03500
SECONDARY_NW_QUAD_XY: 583719.07800 5330586.73200
SECONDARY_NE_QUAD_XY: 588370.06800 5330656.62900
SECONDARY_SE_QUAD_XY: 588477.23400 5323710.07200
SECONDARY_SW_QUAD_XY: 583820.60200 5323640.15900
RMSE_XY: 1.60000
IMAGE_SOURCE: BLACK AND WHITE FILM
SOURCE_IMAGE_ID: NAPP 9160 026
SOURCE_IMAGE_DATE: 1997 09 23
SOURCE_IMAGE_ID: NAPP 9128 254
SOURCE_IMAGE_DATE: 1996 07 29
SOURCE_IMAGE_ID: NAPP 9160 027
SOURCE_IMAGE_DATE: 1997 09 23
SOURCE_DEM_DATE: 1975 00 00
AGENCY: WESTERN MAPPING CENTER (WMC)
PRODUCER: UNDEFINED
PRODUCTION_SYSTEM: GIS/MAGIC
COMPRESSION: UNDEFINED
STANDARD_VERSION: 1996 12
METADATA_DATE: 2000 06 14
DATA_FILE_SIZE: 41293791
BYTE_COUNT: 5417
