FILENAME: O4810958.SES.1080492.tif
QUADRANGLE_NAME: RYAN BUTTE
QUADRANT: SE
WEST_LONGITUDE: -109 48 45.00000
EAST_LONGITUDE: -109 45 0.00000
NORTH_LATITUDE: 48 3 45.00000
SOUTH_LATITUDE: 48 0 0.00000
PRODUCTION_DATE: 2000 6 2
RASTER_ORDER: LEFT_RIGHT/TOP_BOTTOM
BAND_ORGANIZATION: SINGLE FILE
BAND_CONTENT: BLACK&WHITE
BAND_CONTENT: UNDEFINED
BAND_CONTENT: UNDEFINED
BITS_PER_PIXEL: 8
SAMPLES_AND_LINES: 5428 7626
HORIZONTAL_DATUM: NAD83
HORIZONTAL_COORDINATE_SYSTEM: UTM
COORDINATE_ZONE: 12
HORIZONTAL_UNITS: METERS
HORIZONTAL_RESOLUTION: 1.00000
SECONDARY_HORIZONTAL_DATUM: NAD27
XY_ORIGIN: 588117.00000 5324303.00000
SECONDARY_XY_ORIGIN: 588175.92100 5324086.98100
NATION: US
NATION: "SCIENCE
STATE: MT
NW_QUAD_CORNER_XY: 588474.44600 5323928.94600
NE_QUAD_CORNER_XY: 593130.92000 5324002.63700
SE_QUAD_CORNERY_XY: 593243.61600 5317056.15600
SW_QUAD_CORNER_XY: 588581.50600 5316982.44800
SECONDARY_NW_QUAD_XY: 588477.23400 5323710.07200
SECONDARY_NE_QUAD_XY: 593133.85400 5323783.76600
SECONDARY_SE_QUAD_XY: 593246.55000 5316837.29900
SECONDARY_SW_QUAD_XY: 588584.29300 5316763.58900
RMSE_XY: 1.50000
IMAGE_SOURCE: BLACK AND WHITE FILM
SOURCE_IMAGE_ID: NAPP 9160 047
SOURCE_IMAGE_DATE: 1997 09 23
SOURCE_IMAGE_ID: NAPP 9160 046
SOURCE_IMAGE_DATE: 1997 09 23
SOURCE_DEM_DATE: 1975 00 00
AGENCY: WESTERN MAPPING CENTER (WMC)
PRODUCER: UNDEFINED
PRODUCTION_SYSTEM: GIS/MAGIC
COMPRESSION: UNDEFINED
STANDARD_VERSION: 1996 12
METADATA_DATE: 2000 06 14
DATA_FILE_SIZE: 41399356
BYTE_COUNT: 5428
