FILENAME: O4810953.NES.1119816.tif
QUADRANGLE_NAME: MADDUX
QUADRANT: NE
WEST_LONGITUDE: -109 26 15.00000
EAST_LONGITUDE: -109 22 30.00000
NORTH_LATITUDE: 48 15 0.00000
SOUTH_LATITUDE: 48 11 15.00000
PRODUCTION_DATE: 2000 10 17
RASTER_ORDER: LEFT_RIGHT/TOP_BOTTOM
BAND_ORGANIZATION: SINGLE FILE
BAND_CONTENT: BLACK&WHITE
BAND_CONTENT: UNDEFINED
BAND_CONTENT: UNDEFINED
BITS_PER_PIXEL: 8
SAMPLES_AND_LINES: 5445 7648
HORIZONTAL_DATUM: NAD83
HORIZONTAL_COORDINATE_SYSTEM: UTM
COORDINATE_ZONE: 12
HORIZONTAL_UNITS: METERS
HORIZONTAL_RESOLUTION: 1.00000
SECONDARY_HORIZONTAL_DATUM: NAD27
XY_ORIGIN: 615633.00000 5345664.00000
SECONDARY_XY_ORIGIN: 615691.74400 5345447.15800
NATION: US
NATION: "SCIENCE
STATE: MT
NW_QUAD_CORNER_XY: 615989.62300 5345267.36900
NE_QUAD_CORNER_XY: 620629.07100 5345363.67400
SE_QUAD_CORNERY_XY: 620776.02400 5338417.10300
SW_QUAD_CORNER_XY: 616130.92200 5338320.77400
SECONDARY_NW_QUAD_XY: 615993.29200 5345048.47300
SECONDARY_NE_QUAD_XY: 620632.88700 5345144.78100
SECONDARY_SE_QUAD_XY: 620779.84000 5338198.22100
SECONDARY_SW_QUAD_XY: 616134.59100 5338101.89000
RMSE_XY: 1.70000
IMAGE_SOURCE: BLACK AND WHITE FILM
SOURCE_IMAGE_ID: NAPP 9156 136
SOURCE_IMAGE_DATE: 1997 08 29
SOURCE_DEM_DATE: 1987 00 00
AGENCY: WESTERN MAPPING CENTER (WMC)
PRODUCER: UNDEFINED
PRODUCTION_SYSTEM: GIS/MAGIC
COMPRESSION: UNDEFINED
STANDARD_VERSION: 1996 12
METADATA_DATE: 2000 11 09
DATA_FILE_SIZE: 41648805
BYTE_COUNT: 5445
