FILENAME: O4810952.SWS.1119784.tif
QUADRANGLE_NAME: BIG JOHN BUTTE
QUADRANT: SW
WEST_LONGITUDE: -109 37 30.00000
EAST_LONGITUDE: -109 33 45.00000
NORTH_LATITUDE: 48 11 15.00000
SOUTH_LATITUDE: 48 7 30.00000
PRODUCTION_DATE: 2000 10 25
RASTER_ORDER: LEFT_RIGHT/TOP_BOTTOM
BAND_ORGANIZATION: SINGLE FILE
BAND_CONTENT: BLACK&WHITE
BAND_CONTENT: UNDEFINED
BAND_CONTENT: UNDEFINED
BITS_PER_PIXEL: 8
SAMPLES_AND_LINES: 5434 7637
HORIZONTAL_DATUM: NAD83
HORIZONTAL_COORDINATE_SYSTEM: UTM
COORDINATE_ZONE: 12
HORIZONTAL_UNITS: METERS
HORIZONTAL_RESOLUTION: 1.00000
SECONDARY_HORIZONTAL_DATUM: NAD27
XY_ORIGIN: 601838.00000 5338440.00000
SECONDARY_XY_ORIGIN: 601896.94300 5338223.41100
NATION: US
NATION: "SCIENCE
STATE: MT
NW_QUAD_CORNER_XY: 602195.52500 5338054.46300
NE_QUAD_CORNER_XY: 606840.67200 5338139.45500
SE_QUAD_CORNERY_XY: 606970.53400 5331192.88700
SW_QUAD_CORNER_XY: 602319.74000 5331107.87500
SECONDARY_NW_QUAD_XY: 602198.75400 5337835.57000
SECONDARY_NE_QUAD_XY: 606844.04700 5337920.56500
SECONDARY_SE_QUAD_XY: 606973.90900 5330974.01000
SECONDARY_SW_QUAD_XY: 602322.96800 5330888.99500
RMSE_XY: 1.50000
IMAGE_SOURCE: BLACK AND WHITE FILM
SOURCE_IMAGE_ID: NAPP 9159 155
SOURCE_IMAGE_DATE: 1997 09 22
SOURCE_DEM_DATE: 1975 00 00
AGENCY: WESTERN MAPPING CENTER (WMC)
PRODUCER: UNDEFINED
PRODUCTION_SYSTEM: GIS/MAGIC
COMPRESSION: UNDEFINED
STANDARD_VERSION: 1996 12
METADATA_DATE: 2000 11 30
DATA_FILE_SIZE: 41504892
BYTE_COUNT: 5434
