FILENAME: O4810949.NES.1080055.tif
QUADRANGLE_NAME: TABLE BUTTE
QUADRANT: NE
WEST_LONGITUDE: -109 56 15.00000
EAST_LONGITUDE: -109 52 30.00000
NORTH_LATITUDE: 48 15 0.00000
SOUTH_LATITUDE: 48 11 15.00000
PRODUCTION_DATE: 2000 6 1
RASTER_ORDER: LEFT_RIGHT/TOP_BOTTOM
BAND_ORGANIZATION: SINGLE FILE
BAND_CONTENT: BLACK&WHITE
BAND_CONTENT: UNDEFINED
BAND_CONTENT: UNDEFINED
BITS_PER_PIXEL: 8
SAMPLES_AND_LINES: 5400 7619
HORIZONTAL_DATUM: NAD83
HORIZONTAL_COORDINATE_SYSTEM: UTM
COORDINATE_ZONE: 12
HORIZONTAL_UNITS: METERS
HORIZONTAL_RESOLUTION: 1.00000
SECONDARY_HORIZONTAL_DATUM: NAD27
XY_ORIGIN: 578516.00000 5345000.00000
SECONDARY_XY_ORIGIN: 578574.95800 5344783.51700
NATION: US
NATION: "SCIENCE
STATE: MT
NW_QUAD_CORNER_XY: 578873.53300 5344632.93000
NE_QUAD_CORNER_XY: 583513.08700 5344699.01400
SE_QUAD_CORNERY_XY: 583614.81200 5337752.28100
SW_QUAD_CORNER_XY: 578969.60500 5337686.18100
SECONDARY_NW_QUAD_XY: 578876.02800 5344414.01400
SECONDARY_NE_QUAD_XY: 583515.72900 5344480.10000
SECONDARY_SE_QUAD_XY: 583617.45400 5337533.37900
SECONDARY_SW_QUAD_XY: 578972.10000 5337467.27700
RMSE_XY: 1.30000
IMAGE_SOURCE: BLACK AND WHITE FILM
SOURCE_IMAGE_ID: NAPP 9128 249
SOURCE_IMAGE_DATE: 1996 07 29
SOURCE_IMAGE_ID: NAPP 9128 250
SOURCE_IMAGE_DATE: 1996 07 29
SOURCE_DEM_DATE: 1975 00 00
AGENCY: WESTERN MAPPING CENTER (WMC)
PRODUCER: UNDEFINED
PRODUCTION_SYSTEM: GIS/MAGIC
COMPRESSION: UNDEFINED
STANDARD_VERSION: 1996 12
METADATA_DATE: 2000 06 12
DATA_FILE_SIZE: 41148000
BYTE_COUNT: 5400
