FILENAME: O4810948.NES.1115735.tif
QUADRANGLE_NAME: MILES BUTTE
QUADRANT: NE
WEST_LONGITUDE: -109 3 45.00000
EAST_LONGITUDE: -109 0 0.00000
NORTH_LATITUDE: 48 22 30.00000
SOUTH_LATITUDE: 48 18 45.00000
PRODUCTION_DATE: 2000 10 30
RASTER_ORDER: LEFT_RIGHT/TOP_BOTTOM
BAND_ORGANIZATION: SINGLE FILE
BAND_CONTENT: BLACK&WHITE
BAND_CONTENT: UNDEFINED
BAND_CONTENT: UNDEFINED
BITS_PER_PIXEL: 8
SAMPLES_AND_LINES: 5466 7670
HORIZONTAL_DATUM: NAD83
HORIZONTAL_COORDINATE_SYSTEM: UTM
COORDINATE_ZONE: 12
HORIZONTAL_UNITS: METERS
HORIZONTAL_RESOLUTION: 1.00000
SECONDARY_HORIZONTAL_DATUM: NAD27
XY_ORIGIN: 643120.00000 5360214.00000
SECONDARY_XY_ORIGIN: 643178.16500 5359997.04300
NATION: US
NATION: "SCIENCE
STATE: MT
NW_QUAD_CORNER_XY: 643475.08100 5359794.96000
NE_QUAD_CORNER_XY: 648103.09300 5359913.87800
SE_QUAD_CORNERY_XY: 648284.33500 5352967.33400
SW_QUAD_CORNER_XY: 643650.65500 5352848.38500
SECONDARY_NW_QUAD_XY: 643479.63100 5359576.06300
SECONDARY_NE_QUAD_XY: 648107.79000 5359694.98500
SECONDARY_SE_QUAD_XY: 648289.03200 5352748.45100
SECONDARY_SW_QUAD_XY: 643655.20500 5352629.49900
RMSE_XY: 1.00000
IMAGE_SOURCE: BLACK AND WHITE FILM
SOURCE_IMAGE_ID: NAPP 9129 016
SOURCE_IMAGE_DATE: 1996 07 27
SOURCE_IMAGE_ID: NAPP 9147 189
SOURCE_IMAGE_DATE: 1996 08 24
SOURCE_IMAGE_ID: NAPP 9147 187
SOURCE_IMAGE_DATE: 1996 08 24
SOURCE_DEM_DATE: 1993 00 00
AGENCY: WESTERN MAPPING CENTER (WMC)
PRODUCER: UNDEFINED
PRODUCTION_SYSTEM: GIS/MAGIC
COMPRESSION: UNDEFINED
STANDARD_VERSION: 1996 12
METADATA_DATE: 2000 11 10
DATA_FILE_SIZE: 41929686
BYTE_COUNT: 5466
