FILENAME: O4810941.SWS.1115143.tif
QUADRANGLE_NAME: COWAN RESERVOIR
QUADRANT: SW
WEST_LONGITUDE: -110 0 0.00000
EAST_LONGITUDE: -109 56 15.00000
NORTH_LATITUDE: 48 18 45.00000
SOUTH_LATITUDE: 48 15 0.00000
PRODUCTION_DATE: 2000 10 24
RASTER_ORDER: LEFT_RIGHT/TOP_BOTTOM
BAND_ORGANIZATION: SINGLE FILE
BAND_CONTENT: BLACK&WHITE
BAND_CONTENT: UNDEFINED
BAND_CONTENT: UNDEFINED
BITS_PER_PIXEL: 8
SAMPLES_AND_LINES: 5390 7614
HORIZONTAL_DATUM: NAD83
HORIZONTAL_COORDINATE_SYSTEM: UTM
COORDINATE_ZONE: 12
HORIZONTAL_UNITS: METERS
HORIZONTAL_RESOLUTION: 1.00000
SECONDARY_HORIZONTAL_DATUM: NAD27
XY_ORIGIN: 573785.00000 5351880.00000
SECONDARY_XY_ORIGIN: 573843.90200 5351663.32400
NATION: US
NATION: "SCIENCE
STATE: MT
NW_QUAD_CORNER_XY: 574143.45800 5351517.46000
NE_QUAD_CORNER_XY: 578777.36600 5351579.75200
SE_QUAD_CORNERY_XY: 578873.53300 5344632.93000
SW_QUAD_CORNER_XY: 574233.96700 5344570.62200
SECONDARY_NW_QUAD_XY: 574145.80700 5351298.53100
SECONDARY_NE_QUAD_XY: 578779.86100 5351360.82400
SECONDARY_SE_QUAD_XY: 578876.02800 5344414.01400
SECONDARY_SW_QUAD_XY: 574236.31600 5344351.70400
RMSE_XY: 1.10000
IMAGE_SOURCE: BLACK AND WHITE FILM
SOURCE_IMAGE_ID: NAPP 9158 027
SOURCE_IMAGE_DATE: 1997 09 04
SOURCE_DEM_DATE: 1975 00 00
AGENCY: WESTERN MAPPING CENTER (WMC)
PRODUCER: UNDEFINED
PRODUCTION_SYSTEM: GIS/MAGIC
COMPRESSION: UNDEFINED
STANDARD_VERSION: 1996 12
METADATA_DATE: 2000 11 08
DATA_FILE_SIZE: 41044850
BYTE_COUNT: 5390
