FILENAME: O4810939.NES.1115711.tif
QUADRANGLE_NAME: CLEVELAND NW
QUADRANT: NE
WEST_LONGITUDE: -109 11 15.00000
EAST_LONGITUDE: -109 7 30.00000
NORTH_LATITUDE: 48 30 0.00000
SOUTH_LATITUDE: 48 26 15.00000
PRODUCTION_DATE: 2000 10 30
RASTER_ORDER: LEFT_RIGHT/TOP_BOTTOM
BAND_ORGANIZATION: SINGLE FILE
BAND_CONTENT: BLACK&WHITE
BAND_CONTENT: UNDEFINED
BAND_CONTENT: UNDEFINED
BITS_PER_PIXEL: 8
SAMPLES_AND_LINES: 5443 7663
HORIZONTAL_DATUM: NAD83
HORIZONTAL_COORDINATE_SYSTEM: UTM
COORDINATE_ZONE: 12
HORIZONTAL_UNITS: METERS
HORIZONTAL_RESOLUTION: 1.00000
SECONDARY_HORIZONTAL_DATUM: NAD27
XY_ORIGIN: 633535.00000 5373874.00000
SECONDARY_XY_ORIGIN: 633593.06600 5373656.63300
NATION: US
NATION: "SCIENCE
STATE: MT
NW_QUAD_CORNER_XY: 633890.03300 5373461.92300
NE_QUAD_CORNER_XY: 638506.73400 5373573.22900
SE_QUAD_CORNERY_XY: 638676.97400 5366626.49000
SW_QUAD_CORNER_XY: 634054.59500 5366515.15500
SECONDARY_NW_QUAD_XY: 633894.29000 5373243.00100
SECONDARY_NE_QUAD_XY: 638511.13800 5373354.31000
SECONDARY_SE_QUAD_XY: 638681.37800 5366407.58000
SECONDARY_SW_QUAD_XY: 634058.85200 5366296.24100
RMSE_XY: 1.60000
IMAGE_SOURCE: BLACK AND WHITE FILM
SOURCE_IMAGE_ID: NAPP 9145 134
SOURCE_IMAGE_DATE: 1996 08 25
SOURCE_DEM_DATE: 1993 00 00
AGENCY: WESTERN MAPPING CENTER (WMC)
PRODUCER: UNDEFINED
PRODUCTION_SYSTEM: GIS/MAGIC
COMPRESSION: UNDEFINED
STANDARD_VERSION: 1996 12
METADATA_DATE: 2000 11 10
DATA_FILE_SIZE: 41715152
BYTE_COUNT: 5443
