FILENAME: O4810926.SWS.1119740.tif
QUADRANGLE_NAME: HERRON PARK
QUADRANT: SW
WEST_LONGITUDE: -109 52 30.00000
EAST_LONGITUDE: -109 48 45.00000
NORTH_LATITUDE: 48 33 45.00000
SOUTH_LATITUDE: 48 30 0.00000
PRODUCTION_DATE: 2000 10 25
RASTER_ORDER: LEFT_RIGHT/TOP_BOTTOM
BAND_ORGANIZATION: SINGLE FILE
BAND_CONTENT: BLACK&WHITE
BAND_CONTENT: UNDEFINED
BAND_CONTENT: UNDEFINED
BITS_PER_PIXEL: 8
SAMPLES_AND_LINES: 5379 7621
HORIZONTAL_DATUM: NAD83
HORIZONTAL_COORDINATE_SYSTEM: UTM
COORDINATE_ZONE: 12
HORIZONTAL_UNITS: METERS
HORIZONTAL_RESOLUTION: 1.00000
SECONDARY_HORIZONTAL_DATUM: NAD27
XY_ORIGIN: 582645.00000 5379804.00000
SECONDARY_XY_ORIGIN: 582703.81100 5379586.17800
NATION: US
NATION: "SCIENCE
STATE: MT
NW_QUAD_CORNER_XY: 583002.96300 5379433.77100
NE_QUAD_CORNER_XY: 587614.16000 5379503.54200
SE_QUAD_CORNERY_XY: 587722.06500 5372556.46400
SW_QUAD_CORNER_XY: 583105.18700 5372486.67400
SECONDARY_NW_QUAD_XY: 583005.60500 5379214.81000
SECONDARY_NE_QUAD_XY: 587616.94900 5379284.58400
SECONDARY_SE_QUAD_XY: 587724.85400 5372337.51300
SECONDARY_SW_QUAD_XY: 583107.83000 5372267.72100
RMSE_XY: 1.50000
IMAGE_SOURCE: BLACK AND WHITE FILM
SOURCE_IMAGE_ID: NAPP 9128 206
SOURCE_IMAGE_DATE: 1996 07 29
SOURCE_DEM_DATE: 1993 00 00
AGENCY: WESTERN MAPPING CENTER (WMC)
PRODUCER: UNDEFINED
PRODUCTION_SYSTEM: GIS/MAGIC
COMPRESSION: UNDEFINED
STANDARD_VERSION: 1996 12
METADATA_DATE: 2000 11 09
DATA_FILE_SIZE: 40998738
BYTE_COUNT: 5379
