FILENAME: O4810925.SES.1115134.tif
QUADRANGLE_NAME: FRESNO DAM
QUADRANT: SE
WEST_LONGITUDE: -109 56 15.00000
EAST_LONGITUDE: -109 52 30.00000
NORTH_LATITUDE: 48 33 45.00000
SOUTH_LATITUDE: 48 30 0.00000
PRODUCTION_DATE: 2000 10 25
RASTER_ORDER: LEFT_RIGHT/TOP_BOTTOM
BAND_ORGANIZATION: SINGLE FILE
BAND_CONTENT: BLACK&WHITE
BAND_CONTENT: UNDEFINED
BAND_CONTENT: UNDEFINED
BITS_PER_PIXEL: 8
SAMPLES_AND_LINES: 5373 7617
HORIZONTAL_DATUM: NAD83
HORIZONTAL_COORDINATE_SYSTEM: UTM
COORDINATE_ZONE: 12
HORIZONTAL_UNITS: METERS
HORIZONTAL_RESOLUTION: 1.00000
SECONDARY_HORIZONTAL_DATUM: NAD27
XY_ORIGIN: 578034.00000 5379734.00000
SECONDARY_XY_ORIGIN: 578092.76500 5379516.22700
NATION: US
NATION: "SCIENCE
STATE: MT
NW_QUAD_CORNER_XY: 578391.75400 5379367.77200
NE_QUAD_CORNER_XY: 583002.96300 5379433.77100
SE_QUAD_CORNERY_XY: 583105.18700 5372486.67400
SW_QUAD_CORNER_XY: 578488.29800 5372420.65700
SECONDARY_NW_QUAD_XY: 578394.25000 5379148.80900
SECONDARY_NE_QUAD_XY: 583005.60500 5379214.81000
SECONDARY_SE_QUAD_XY: 583107.83000 5372267.72100
SECONDARY_SW_QUAD_XY: 578490.79400 5372201.70200
RMSE_XY: 1.30000
IMAGE_SOURCE: BLACK AND WHITE FILM
SOURCE_IMAGE_ID: NAPP 9128 239
SOURCE_IMAGE_DATE: 1996 07 29
SOURCE_DEM_DATE: 1993 00 00
AGENCY: WESTERN MAPPING CENTER (WMC)
PRODUCER: UNDEFINED
PRODUCTION_SYSTEM: GIS/MAGIC
COMPRESSION: UNDEFINED
STANDARD_VERSION: 1996 12
METADATA_DATE: 2000 11 08
DATA_FILE_SIZE: 40931514
BYTE_COUNT: 5373
